Workbook
Name adres: #REF!
Name adresA786: #REF!
Name arkusz_korekt: #REF!
Name datrap: #REF!
Name dzb: #REF!
Name dzbo: #REF!
Name gdzie: #REF!
Name gdzie2: #REF!
Name jezyk: #REF!
Name jezyk1: #REF!
Name kapital: #REF!
Name kod: #REF!
Name ksh: #REF!
Name nazwa_spolki: #REF!
Name oddzial: #REF!
Name oddzial_dane_tabela: #REF!
Name oddzial_de: #REF!
Name oddzial_eng: #REF!
Name oddzial_w_tabela: #REF!
Name oddzialde: #REF!
Name p_rok_dzial: #REF!
Name p2dz: #REF!
Name p2dzo: #REF!
Name pdz: #REF!
Name pdzo: #REF!
Name rjedn: #REF!
Name ro: #REF!
Name rok: #REF!
Name siedziba: #REF!
Name Spółka: #REF!
Name ST_WD: #REF!
Name strata: #REF!
Name strata1: #REF!
Name tytul: #REF!
Name ulica: #REF!
Name UoR: #REF!
Name wart.dolna: #REF!
Name wCF: #REF!
Name WD.wnip: #REF!
Name wd_wnip: #REF!
Name WG_ST: #REF!
Name WG_WNIP: #REF!
Name wrach: #REF!
Name ZZwk: #REF!

Sheet Arkusz3
B1: 1 | C1: 2 | D1: 3
A2: Wprowadzenie | B2: Wprowadzenie | C2: Einleitung | D2: Introduction
A3: nota 1.1.-1.2 | B3: nota 1.1.-1.2 | C3: Note 1.1.-1.2 | D3: note 1.1.-1.2
A4: nota 1.1.b | B4: nota 1.1.b | C4: Note 1.1.b | D4: note 1.1.b
A5: nota 1.1.c | B5: nota 1.1.c | C5: Note 1.1.c | D5: note 1.1.c
A6: nota 1.2 | B6: nota 1.2 | C6: Note 1.2 | D6: note 1.2
A7: nota 1.3-1.10 | B7: nota 1.3-1.10 | C7: Note 1.3-1.10 | D7: note 1.3-1.10
A8: nota 1.11 | B8: nota 1.11 | C8: Note 1.11 | D8: note 1.11
A9: nota 1.11-1.15 | B9: nota 1.11-1.15 | C9: Note 1.11-1.15 | D9: note 1.11-1.15
A10: nota 1.16-1.19 | B10: nota 1.16-1.19 | C10: Note 1.16-1.19 | D10: note 1.16-1.19
A11: nota 2 | B11: nota 2 | C11: Note 2 | D11: note 2
A12: nota 3,4 | B12: nota 3,4 | C12: Note 3,4 | D12: note 3,4
A13: nota 5 | B13: nota 5 | C13: Note 5 | D13: note 5
... A49: note 9, 10 | B49: nota 9, 10 | C49: Note 9, 10 | D49: note 9, 10

Sheet kurs_nbp
B1: tabela kursów | C1: z dnia | D1: EUR | E1: USD | F1: GBP
A2: =MONTH(C2)&"."&YEAR(C2) -> 3.2019 | B2: 063/A/NBP/2019 | C2: 43555 | D2: 4.3013 | E2: 3.8365 | F2: 4.996
A3: =MONTH(C3)&"."&YEAR(C3) -> 6.2019 | B3: 124/A/NBP/2019 | C3: 43644 | D3: 4.252 | E3: 3.7336 | F3: 4.7331
A4: =MONTH(C4)&"."&YEAR(C4) -> 9.2019 | B4: 189/A/NBP/2019 | C4: 43738 | D4: 4.3736 | E4: 4 | F4: 4.9313
A5: =MONTH(C5)&"."&YEAR(C5) -> 12.2019 | B5: 251/A/NBP/2019 | C5: 43830 | D5: 4.2585 | E5: 3.7977 | F5: 4.9971
A6: =MONTH(C6)&"."&YEAR(C6) -> 3.2020 | B6: 063/A/NBP/2020 | C6: 43921 | D6: 4.5523 | E6: 4.1466 | F6: 5.1052
A7: =MONTH(C7)&"."&YEAR(C7) -> 6.2020 | B7: 125/A/NBP/2020 | C7: 44012 | D7: 4.466 | E7: 3.9806 | F7: 4.8851
A8: =MONTH(C8)&"."&YEAR(C8) -> 9.2020 | B8: 191/A/NBP/2020 | C8: 44104 | D8: 4.5268 | E8: 3.8658 | F8: 4.956
A9: =MONTH(C9)&"."&YEAR(C9) -> 12.2020 | B9: 255/A/NBP/2020 | C9: 44196 | D9: 4.6148 | E9: 3.7584 | F9: 5.1327
A10: =MONTH(C10)&"."&YEAR(C10) -> 3.2021 | B10: 062/A/NBP/2021 | C10: 44286 | D10: 4.6603 | E10: 3.9676 | F10: 5.4679
A11: =MONTH(C11)&"."&YEAR(C11) -> 6.2021 | B11: 124/A/NBP/2021 | C11: 44377 | D11: 4.5208 | E11: 3.8035 | F11: 5.2616
A12: =MONTH(C12)&"."&YEAR(C12) -> 9.2021 | B12: 190/A/NBP/2021 | C12: 44469 | D12: 4.6329 | E12: 3.9925 | F12: 5.3653
A13: =MONTH(C13)&"."&YEAR(C13) -> 12.2021 | B13: 254/A/NBP/2021 | C13: 44561 | D13: 4.5994 | E13: 4.06 | F13: 5.4846
... A24: =MONTH(C24)&"."&YEAR(C24) -> 9.2024 | B24: 190/A/NBP/2024 | C24: 45565 | D24: 4.2791 | E24: 3.8193 | F24: 5.1241
A25: =IF(B25<>"",MONTH(C25)&"."&YEAR(C25),"") -> 12.2024 | B25: 252/A/NBP/2024 | C25: 45657 | D25: 4.273 | E25: 4.1012 | F25: 5.1488
A26: =IF(B26<>"",MONTH(C26)&"."&YEAR(C26),"")
A27: =IF(B27<>"",MONTH(C27)&"."&YEAR(C27),"")
A28: =IF(B28<>"",MONTH(C28)&"."&YEAR(C28),"")
A29: =IF(B29<>"",MONTH(C29)&"."&YEAR(C29),"")
A30: =IF(B30<>"",MONTH(C30)&"."&YEAR(C30),"")
A31: =IF(B31<>"",MONTH(C31)&"."&YEAR(C31),"")
A32: =IF(B32<>"",MONTH(C32)&"."&YEAR(C32),"")
A33: =IF(B33<>"",MONTH(C33)&"."&YEAR(C33),"")
A34: =IF(B34<>"",MONTH(C34)&"."&YEAR(C34),"")
A35: =IF(B35<>"",MONTH(C35)&"."&YEAR(C35),"")
A36: =IF(B36<>"",MONTH(C36)&"."&YEAR(C36),"")
A37: =IF(B37<>"",MONTH(C37)&"."&YEAR(C37),"")
... A45: =IF(B45<>"",MONTH(C45)&"."&YEAR(C45),"")

Sheet spis treści
C1: =CHOOSE(jezyk,#REF!,#REF!,#REF!,#REF!) -> #REF! | D1: zakładka nie jest drukowana, służy nawigacji po pliku
C3: =CHOOSE(jezyk,#REF!,#REF!,#REF!,#REF!) -> #REF!
C4: Strona tytułowa SF
C5: =CHOOSE(jezyk,#REF!,#REF!,#REF!,#REF!) -> #REF!
C6: =CHOOSE(jezyk,#REF!,#REF!,#REF!,#REF!) -> #REF!
C7: Bilans - korekty
C8: Bilans po korektach
C9: =CHOOSE(jezyk,#REF!,#REF!,#REF!,#REF!) -> #REF!
C10: RZiS Por. po korektach
C11: =CHOOSE(jezyk,#REF!,#REF!,#REF!,#REF!) -> #REF!
C12: =CHOOSE(jezyk,#REF!,#REF!,#REF!,#REF!) -> #REF!
C13: CF kalkulacja
C14: =CHOOSE(jezyk,#REF!,#REF!,#REF!,#REF!) -> #REF!
C15: =CHOOSE(jezyk,#REF!,#REF!,#REF!,#REF!) -> #REF!
C16: =CHOOSE(jezyk,#REF!,#REF!,#REF!,#REF!) -> #REF!
C17: =CHOOSE(jezyk,#REF!,#REF!,#REF!,#REF!) -> #REF!
C18: =CHOOSE(jezyk,#REF!,#REF!,#REF!,#REF!) -> #REF!
C19: =CHOOSE(jezyk,#REF!,#REF!,#REF!,#REF!) -> #REF!
C20: =CHOOSE(jezyk,#REF!,#REF!,#REF!,#REF!) -> #REF!
C21: =CHOOSE(jezyk,#REF!,#REF!,#REF!,#REF!) -> #REF!
C22: =CHOOSE(jezyk,#REF!,#REF!,#REF!,#REF!) -> #REF!
C23: =CHOOSE(jezyk,#REF!,#REF!,#REF!,#REF!) -> #REF!
C24: =CHOOSE(jezyk,#REF!,#REF!,#REF!,#REF!) -> #REF!
C25: =CHOOSE(jezyk,#REF!,#REF!,#REF!,#REF!)&" "&CHOOSE(jezyk,#REF!,#REF!,#REF!,#REF!)&" "&CHOOSE(jezyk,#REF!,#REF!,#REF!,#REF!) -> #REF!
C26: =CHOOSE(jezyk,#REF!,#REF!,#REF!,#REF!) -> #REF!
C27: =CHOOSE(jezyk,#REF!,#REF!,#REF!,#REF!)&" "&CHOOSE(jezyk,#REF!,#REF!,#REF!,#REF!) -> #REF!
C28: =CHOOSE(jezyk,#REF!,#REF!,#REF!,#REF!) -> #REF!
C29: =CHOOSE(jezyk,#REF!,#REF!,#REF!,#REF!) -> #REF!
C30: =CHOOSE(jezyk,#REF!,#REF!,#REF!,#REF!) -> #REF!
C31: =CHOOSE(jezyk,#REF!,#REF!,#REF!,#REF!) -> #REF!
C32: =CHOOSE(jezyk,#REF!,#REF!,#REF!,#REF!)&" " -> #REF!
C33: =CHOOSE(jezyk,#REF!,#REF!,#REF!,#REF!) -> #REF!
C35: =CHOOSE(jezyk,#REF!,#REF!,#REF!,#REF!) -> #REF!

Sheet PKD
A1: symbol | B1: nazwa | C1: Bezeichnung
A2: 0111Z | B2: Uprawa zbóż, roślin strączkowych i roślin oleistych na nasiona, z wyłączeniem ryżu | C2: Getreide (ohne Reis), Hülsenfrüchte und Ölsaaten | D2: Uprawa zbóż, roślin strączkowych i roślin oleistych na nasiona, z wyłączeniem ryżu
A3: 0112Z | B3: Uprawa ryżu | C3: Rohreis | D3: Growing of rice
A4: 0113Z | B4: Uprawa warzyw, włączając melony oraz uprawa roślin korzeniowych i roślin bulwiastych | C4: Gemüse und Melonen sowie Wurzeln und Knollen | D4: Growing of vegetables, including melons, and of roots and tubers
A5: 0114Z | B5: Uprawa trzciny cukrowej | C5: Zuckerrohr | D5: Growing of sugar cane
A6: 0115Z | B6: Uprawa tytoniu | C6: Tabak | D6: Growing of tobacco
A7: 0116Z | B7: Uprawa roślin włóknistych | C7: Faserpflanzen | D7: Uprawa roślin włóknistych
A8: 0119Z | B8: Pozostałe uprawy rolne inne niż wieloletnie | C8: Sonstige einjährige Pflanzen | D8: Pozostałe uprawy rolne inne niż wieloletnie
A9: 0121Z | B9: Uprawa winogron | C9: Wein- und Tafeltrauben | D9: Growing of grapes
A10: 0122Z | B10: Uprawa drzew i krzewów owocowych tropikalnych i podzwrotnikowych | C10: Tropische und subtropische Früchte | D10: Uprawa drzew i krzewów owocowych tropikalnych i podzwrotnikowych
A11: 0123Z | B11: Uprawa drzew i krzewów owocowych cytrusowych | C11: Zitrusfrüchte | D11: Uprawa drzew i krzewów owocowych cytrusowych
A12: 0124Z | B12: Uprawa drzew i krzewów owocowych ziarnkowych i pestkowych | C12: Kern- und Steinobst | D12: Uprawa drzew i krzewów owocowych ziarnkowych i pestkowych
A13: 0125Z | B13: Uprawa pozostałych drzew i krzewów owocowych oraz orzechów | C13: Sonstiges Baum- und Strauchobst und Nüsse | D13: Uprawa pozostałych drzew i krzewów owocowych oraz orzechów
... A197: 2451Z | B197: Odlewnictwo żeliwa | C197: Eisengießereierzeugnisse | D197: Odlewnictwo żeliwa
A198: 2452Z | B198: Odlewnictwo staliwa | C198: Teile aus Stahlguss
A199: 2453Z | B199: Odlewnictwo metali lekkich | C199: Teile aus Leichtmetallguss | D199: Odlewnictwo metali lekkich
A200: 2454A | B200: Odlewnictwo miedzi i stopów miedzi | C200: Teile aus Buntmetall-/Schwermetallguss
A201: 2454B | B201: Odlewnictwo pozostałych metali nieżelaznych, gdzie indziej niesklasyfikowane | C201: Buntmetallgießereierzeugnisse, a.n.g. | D201: Odlewnictwo pozostałych metali nieżelaznych, gdzie indziej niesklasyfikowane
A202: 2511Z | B202: Produkcja konstrukcji metalowych i ich części | C202: Metallkonstruktionen und deren Teile | D202: Manufacture of metal structures and parts of structures
A203: 2512Z | B203: Produkcja metalowych elementów stolarki budowlanej | C203: Ausbauelemente aus Metall | D203: Manufacture of builders’ joinery components of metal
A204: 2521Z | B204: Produkcja grzejników i kotłów centralnego ogrzewania | C204: Heizkörper und -kessel für Zentralheizungen | D204: Produkcja grzejników i kotłów centralnego ogrzewania
A205: 2529Z | B205: Produkcja pozostałych zbiorników, cystern i pojemników metalowych | C205: Sammelbehälter, Tanks u. ä. Behälter aus Metall | D205: Manufacture of other tanks, reservoirs and containers of metal
A206: 2530Z | B206: Produkcja wytwornic pary, z wyłączeniem kotłów do centralnego ogrzewania gorącą wodą | C206: Dampfkessel ohne Zentralheizungskessel | D206: Produkcja wytwornic pary, z wyłączeniem kotłów do centralnego ogrzewania gorącą wodą
A207: 2540Z | B207: Produkcja broni i amunicji | C207: Produkcja broni i amunicji | D207: Produkcja broni i amunicji
A208: 2550Z | B208: Kucie, prasowanie, wytłaczanie i walcowanie metali; metalurgia proszków | C208: Schmiede-, Press-, Zieh- und Stanzteile, gewalzte Ringe und pulvermetallurgische Erzeugnisse | D208: Forging, pressing, stamping and roll-forming of metal; powder metallurgy
A209: 2561Z | B209: Obróbka metali i nakładanie powłok na metale | C209: Oberflächenveredlung und Wärmebehandlung | D209: Treatment and coating of metals
A210: 2562Z | B210: Obróbka mechaniczna elementów metalowych | C210: Mechanische Verarbeitung von Metallelementen | D210: Mechanical treatment of metal components
A211: 2571Z | B211: Produkcja wyrobów nożowniczych i sztućców | C211: Schneidwaren und Besteck | D211: Manufacture of knives and cutlery
A212: 2572Z | B212: Produkcja zamków i zawiasów | C212: Schlösser und Beschläge | D212: Manufacture of locks and hinges
... A656: 9900Z | B656: ORGANIZACJE I ZESPOŁY EKSTERYTORIALNE | C656: ORGANIZACJE I ZESPOŁY EKSTERYTORIALNE | D656: ORGANIZACJE I ZESPOŁY EKSTERYTORIALNE

Sheet Bilans
B2: Meritoros SA
B3: Bilans na dzień 31.12.2025
A5: Segment | B5: Nazwa | C5: Stan na dzień 31.12.2024 | D5: Stan na dzień 31.12.2025
A6: - | B6: AKTYWA | C6: =C7+C49+C92+C93 -> 5213673.9 | D6: 7407184.6
A7: A | B7: Aktywa trwałe | C7: =C8+C13+C22+C26+C46 -> 2400065.1 | D7: 3361161.2
A8: I | B8: Wartości niematerialne i prawne | C8: =C9+C10+C11+C12 -> 1344345.7 | D8: 2257414.6
A9: 1 | B9: Koszty zakończonych prac rozwojowych | C9: 0 | D9: 0
A10: 2 | B10: Wartość firmy | C10: 1220162.4 | D10: 2071864.6
A11: 3 | B11: Inne wartości niematerialne i prawne | C11: 124183.34 | D11: 60000
A12: 4 | B12: Zaliczki na wartości niematerialne i prawne | C12: 0 | D12: 125550
A13: II | B13: Rzeczowe aktywa trwałe | C13: =C14+C20+C21 -> 154283.89 | D13: 184629.28
A14: 1 | B14: Środki trwałe | C14: =C15+C16+C17+C18+C19 -> 154283.89 | D14: 184629.28
A15: a | B15: grunty (w tym prawo użytkowania wiecz. gruntu) | C15: 0 | D15: 0
A16: b | B16: bud., lok., prawa do lok. i ob. inż. ląd. i wodn. | C16: 0 | D16: 0
A17: c | B17: urządzenia techniczne i maszyny | C17: 135412.02 | D17: 168831.73
A18: d | B18: środki transportu | C18: 2395.67 | D18: 1289.98
A19: e | B19: inne środki trwałe | C19: 16476.2 | D19: 14507.57
A20: 2 | B20: Środki trwałe w budowie | C20: 0 | D20: 0
A21: 3 | B21: Zaliczki na środki trwałe w budowie | C21: 0 | D21: 0
A22: III | B22: Należności długoterminowe | C22: =C23+C24+C25 -> 0 | D22: 0
A23: 1 | B23: Od jednostek powiązanych | C23: 0 | D23: 0
A24: 2 | B24: Od poz. jedn., w których jedn. pos. zaang. w kap. | C24: 0 | D24: 0
A25: 3 | B25: Od pozostałych jednostek | C25: 0 | D25: 0
A26: IV | B26: Inwestycje długoterminowe | C26: =C27+C28+C29+C45 -> 723161 | D26: 723161
A27: 1 | B27: Nieruchomości | C27: 0 | D27: 0
A28: 2 | B28: Wartości niematerialne i prawne | C28: 0 | D28: 0
A29: 3 | B29: Długoterminowe aktywa finansowe | C29: =C30+C35+C40 -> 723161 | D29: 723161
A30: a | B30: w jednostkach powiązanych: | C30: =C31+C32+C33+C34 -> 723161 | D30: 723161
A31: - | B31: udziały lub akcje | C31: 723161 | D31: 723161
A32: - | B32: inne papiery wartościowe | C32: 0 | D32: 0
A33: - | B33: udzielone pożyczki | C33: 0 | D33: 0
A34: - | B34: inne długoterminowe aktywa finansowe | C34: 0 | D34: 0
A35: b | B35: w poz. jedn., w których jedn. pos. zaang. w kap. | C35: =C36+C37+C38+C39 -> 0 | D35: 0
A36: - | B36: udziały lub akcje | C36: 0 | D36: 0
A37: - | B37: inne papiery wartościowe | C37: 0 | D37: 0
A38: - | B38: udzielone pożyczki | C38: 0 | D38: 0
A39: - | B39: inne długoterminowe aktywa finansowe | C39: 0 | D39: 0
A40: c | B40: w pozostałych jednostkach: | C40: =C41+C42+C43+C44 -> 0 | D40: 0
A41: - | B41: udziały lub akcje | C41: 0 | D41: 0
A42: - | B42: inne papiery wartościowe | C42: 0 | D42: 0
...

Sheet RZiS Por. 
B3: Meritoros SA
B4: Rachunek zysków i strat
B5: za rok obrotowy od 01.01.2025 do 31.12.2025
B6: (wariant porównawczy)
A8: Segment | B8: Nazwa | C8: 01.01-31.12.2025
A9: A | B9: Przychody netto ze sprzedaży i zrównane z nimi: | C9: 24820623
A10: - | B10: od jednostek powiązanych | C10: 307186.36
A11: I | B11: Przychody netto ze sprzedaży produktów | C11: 24820623
A12: II | B12: Zmiana stanu produktów | C12: 0
A13: III | B13: Koszt wytworzenia produktów na własne potrzeby jed | C13: 0
A14: IV | B14: Przychody netto ze sprzedaży towarów i materiałów | C14: 0
A15: B | B15: Koszty działalności operacyjnej | C15: 23471858
A16: I | B16: Amortyzacja | C16: 172660.91 | G16: 299905.36 | H16: 552976
A17: II | B17: Zużycie materiałów i energii | C17: 302087.22 | G17: 7281 | H17: 5986.8
A18: III | B18: Usługi obce | C18: 8218404 | G18: =SUM(G16:G17) -> 307186.36 | H18: =SUM(H16:H17) -> 558962.8
A19: IV | B19: Podatki i opłaty, w tym: | C19: 200100.27
A20: - | B20: podatek akcyzowy | C20: 0
A21: V | B21: Wynagrodzenia | C21: 12361255 | G21: =C9 -> 24820623 | H21: 19516284 | I21: =(G21-H21)/H21 -> 0.2717904
A22: VI | B22: Ubezpieczenia społeczne i inne świadczenia, w tym: | C22: 2182937.8 | G22: =C15 -> 23471858 | H22: 18875307 | I22: =(G22-H22)/H22 -> 0.24352194
A23: - | B23: emerytalne | C23: 1902100.1
A24: VII | B24: Pozostałe koszty rodzajowe | C24: 34413.02
A25: VIII | B25: Wartość sprzedanych towarów i materiałów | C25: 0
A26: C | B26: Zysk (strata) ze sprzedaży (A-B) | C26: 1348765.1
A27: D | B27: Pozostałe przychody operacyjne | C27: 550660.23
A28: I | B28: Zysk z tyt.rozchodu niefinansowych aktywów trwałyc | C28: 325.2
A29: II | B29: Dotacje | C29: 1440
A30: III | B30: Aktualizacja wartości aktywów niefinansowych | C30: 302051.8
A31: IV | B31: Inne przychody operacyjne | C31: 246843.23
A32: E | B32: Pozostałe koszty operacyjne | C32: 1192586.3
A33: I | B33: Strata z tyt.rozchodu niefinansowych aktywów trwał | C33: 0
A34: II | B34: Aktualizacja wartości aktywów niefinansowych | C34: 461515.37
... A61: L | B61: Zysk (strata) netto (I- J- K) | C61: 629709.21
A62: =SUBTOTAL(3,A9:A61) -> 53
C64: =C61-Bilans!D106 -> 0

Sheet FORMATKA_RPP bezpośredni
A1: Lp | B1: Symbol | C1: Opis pozycji | D1: Bieżacy rok obrotowy | E1: Poprzedni rok obrotowy | F1: Przekształcone dane porównawcze za poprzedni rok obrotowy
A2: 1. | B2: A. | C2: A. Przepływy środków pieniężnych z działalności operacyjnej | D2: 0 | E2: 0 | F2: 0
A3: 1.1. | B3: A.I. | C3: I. Wpływy | D3: 0 | E3: 0 | F3: 0
A4: 1.1.1. | B4: A.I.1. | C4: 1. Sprzedaż | D4: 0 | E4: 0 | F4: 0
A5: 1.1.2. | B5: A.I.2. | C5: 2. Inne wpływy z działalności operacyjnej | D5: 0 | E5: 0 | F5: 0
A6: 1.2. | B6: A.II. | C6: II. Wydatki | D6: 0 | E6: 0 | F6: 0
A7: 1.2.1. | B7: A.II.1. | C7: 1. Dostawy i usługi | D7: 0 | E7: 0 | F7: 0
A8: 1.2.2. | B8: A.II.2. | C8: 2. Wynagrodzenia netto | D8: 0 | E8: 0 | F8: 0
A9: 1.2.3. | B9: A.II.3. | C9: 3. Ubezpieczenia społeczne i zdrowotne oraz inne świadczenia | D9: 0 | E9: 0 | F9: 0
A10: 1.2.4. | B10: A.II.4. | C10: 4. Podatki i opłaty o charakterze publicznoprawnym | D10: 0 | E10: 0 | F10: 0
A11: 1.2.5. | B11: A.II.5. | C11: 5. Inne wydatki operacyjne | D11: 0 | E11: 0 | F11: 0
A12: 1.3. | B12: A.III. | C12: III. Przepływy pieniężne netto z działalności operacyjnej (I–II) | D12: 0 | E12: 0 | F12: 0
A13: 2. | B13: B. | C13: B. Przepływy środków pieniężnych z działalności inwestycyjnej | D13: 0 | E13: 0 | F13: 0
... A58: 7.1. | B58: G.1 | C58: – o ograniczonej możliwości dysponowania | D58: 0 | E58: 0 | F58: 0

Sheet RZiS Kal.
B1: SPIS TREŚCI
B3: =nazwa_spolki&", "&siedziba -> #REF!
B4: =CHOOSE(jezyk,#REF!,#REF!,#REF!,#REF!) -> #REF!
B5: =CHOOSE(jezyk,#REF!,#REF!,#REF!,#REF!) -> #REF!
B6: =CHOOSE(jezyk,#REF!,#REF!,#REF!,#REF!) -> #REF!
F9: =CHOOSE(jezyk,#REF!,#REF!,#REF!,#REF!) -> #REF! | G9: =CHOOSE(jezyk,#REF!,#REF!,#REF!,#REF!) -> #REF!
F10: PLN | G10: PLN
B12: A. | C12: =CHOOSE(jezyk,#REF!,#REF!,#REF!,#REF!) -> #REF! | F12: =SUM(F15:F16) -> 0 | G12: =SUM(G15:G16) -> 0
D14: - | E14: =CHOOSE(jezyk,#REF!,#REF!,#REF!,#REF!) -> #REF!
C15: I. | D15: =CHOOSE(jezyk,#REF!,#REF!,#REF!,#REF!) -> #REF!
C16: II. | D16: =CHOOSE(jezyk,#REF!,#REF!,#REF!,#REF!) -> #REF!
B18: B. | C18: =CHOOSE(jezyk,#REF!,#REF!,#REF!,#REF!) -> #REF! | F18: =SUM(F21:F22) -> 0 | G18: =SUM(G21:G22) -> 0
D20: - | E20: =CHOOSE(jezyk,#REF!,#REF!,#REF!,#REF!) -> #REF!
C21: I. | D21: =CHOOSE(jezyk,#REF!,#REF!,#REF!,#REF!) -> #REF!
C22: II. | D22: =CHOOSE(jezyk,#REF!,#REF!,#REF!,#REF!) -> #REF!
B24: C. | C24: =CHOOSE(jezyk,#REF!,#REF!,#REF!,#REF!) -> #REF! | F24: =F12-F18 -> 0 | G24: =G12-G18 -> 0
B26: D. | C26: =CHOOSE(jezyk,#REF!,#REF!,#REF!,#REF!) -> #REF!
B28: E. | C28: =CHOOSE(jezyk,#REF!,#REF!,#REF!,#REF!) -> #REF!
B30: F. | C30: =CHOOSE(jezyk,#REF!,#REF!,#REF!,#REF!) -> #REF! | F30: =F24-SUM(F26:F28) -> 0 | G30: =G24-SUM(G26:G28) -> 0
B32: G. | C32: =CHOOSE(jezyk,#REF!,#REF!,#REF!,#REF!) -> #REF! | F32: =SUM(F34:F37) -> 0 | G32: =SUM(G34:G37) -> 0
C34: I. | D34: =CHOOSE(jezyk,#REF!,#REF!,#REF!,#REF!) -> #REF!
C35: II. | D35: =CHOOSE(jezyk,#REF!,#REF!,#REF!,#REF!) -> #REF!
C36: III. | D36: =CHOOSE(jezyk,#REF!,#REF!,#REF!,#REF!) -> #REF!
C37: IV. | D37: =CHOOSE(jezyk,#REF!,#REF!,#REF!,#REF!) -> #REF!
B39: H. | C39: =CHOOSE(jezyk,#REF!,#REF!,#REF!,#REF!) -> #REF! | F39: =SUM(F41:F43) -> 0 | G39: =SUM(G41:G43) -> 0
C41: I. | D41: =CHOOSE(jezyk,#REF!,#REF!,#REF!,#REF!) -> #REF!
C42: II. | D42: =CHOOSE(jezyk,#REF!,#REF!,#REF!,#REF!) -> #REF!
C43: III. | D43: =CHOOSE(jezyk,#REF!,#REF!,#REF!,#REF!) -> #REF!
B45: I. | C45: =CHOOSE(jezyk,#REF!,#REF!,#REF!,#REF!) -> #REF! | F45: =F30+F32-F39 -> 0 | G45: =G30+G32-G39 -> 0
B47: J. | C47: =CHOOSE(jezyk,#REF!,#REF!,#REF!,#REF!) -> #REF! | F47: =SUM(F49,F54,F56,F58,F59) -> 0 | G47: =SUM(G49,G54,G56,G58,G59) -> 0
C49: I. | D49: =CHOOSE(jezyk,#REF!,#REF!,#REF!,#REF!) -> #REF! | F49: =F50+F52 -> 0 | G49: =G50+G52 -> 0
D50: a) | E50: =CHOOSE(jezyk,#REF!,#REF!,#REF!,#REF!) -> #REF!
D51: - | E51: =CHOOSE(jezyk,#REF!,#REF!,#REF!,#REF!) -> #REF!
D52: b) | E52: =CHOOSE(jezyk,#REF!,#REF!,#REF!,#REF!) -> #REF!
D53: - | E53: =E51 -> #REF!
C54: II. | D54: =CHOOSE(jezyk,#REF!,#REF!,#REF!,#REF!) -> #REF!
D55: - | E55: =CHOOSE(jezyk,#REF!,#REF!,#REF!,#REF!) -> #REF!
C56: III. | D56: =CHOOSE(jezyk,#REF!,#REF!,#REF!,#REF!) -> #REF!
D57: - | E57: =CHOOSE(jezyk,#REF!,#REF!,#REF!,#REF!) -> #REF!
C58: IV. | D58: =CHOOSE(jezyk,#REF!,#REF!,#REF!,#REF!) -> #REF!
...

Sheet ZZwKW
B2: Meritoros SA
B3: Zestawienie zmian w kapitale (funduszu) własnym
B4: za rok obrotowy od 01.01.2025 do 31.12.2025
A6: Lp. | B6: Tytuł | C6: 01.01-31.12.2025
A7: I. | B7: Kapitał (fundusz) własny na początek okresu (BO) | C7: =C11+C19+C32+C40+C47 -> 1593973.3 | D7: =C7-Bilans!C96 -> 0
B8: - zmiany przyjętych zasad (polityki) rachunkowości | C8: =C49+C60 -> 0
B9: - korekty błędów | C9: =C50+C61 -> 0
A10: I.a. | B10: Kapitał (fundusz) własny na początek okresu (BO), po korektach | C10: =C11+C19+C32+C40+C51+C62 -> 1593973.3
A11: 1 | B11: Kapitał (fundusz) podstawowy na początek okresu | C11: 120000 | D11: =C11-Bilans!C97 -> 0
A12: 1.1. | B12: Zmiany kapitału (funduszu) podstawowego | C12: =C13-C16 -> 0
A13: a | B13: zwiększenie (z tytułu) | C13: =SUM(C14:C15) -> 0
B14: - wydania udziałów (emisji akcji) | C14: 0
B15: - podniesienie z kapitału zapasowego | C15: 0
A16: b | B16: zmniejszenie (z tytułu) | C16: =SUM(C17) -> 0
B17: - umorzenie udziałów (akcji) | C17: 0
A18: 1.2. | B18: Kapitał (fundusz) podstawowy na koniec okresu | C18: 120000 | D18: =C18-Bilans!D97 -> 0
A19: 2 | B19: Kapitał (fundusz) zapasowy na początek okresu | C19: 1075892.2 | D19: =C19-Bilans!C98 -> 0
A20: 2.1. | B20: Zmiany kapitału (funduszu) zapasowego | C20: =(C21-C26) -> 398081.12
A21: a | B21: zwiększenie (z tytułu) | C21: =SUM(C22:C25) -> 398081.12
B22: - emisji akcji powyżej wartości nominalnej | C22: 0
B23: - podziału zysku (ustawowo) | C23: 0
B24: - podziału zysku (ponad wymaganą ustawowo minimalną wartość) | C24: 0
B25: - podział zysku zgodnie z uchwałą zgromadzenia wspólników | C25: 398081.12
A26: b | B26: zmniejszenie (z tytułu) | C26: =SUM(C27:C30) -> 0
B27: - pokrycia straty | C27: 0
B28: - wypłaty dywidendy | C28: 0
B29: - podniesienie kapitału zakładowego | C29: 0
B30: - zryczałtowany podatek dochodowy od podniesienia kapitału zakładowego | C30: 0
A31: 2.2. | B31: Stan kapitału (funduszu) zapasowego na koniec okresu | C31: =SUM(C19:C20) -> 1473973.3 | D31: =C31-Bilans!D98 -> 0
A32: 3 | B32: Kapitał (fundusz) z aktualizacji wyceny na początek okresu - zmiany przyjętych zasad (polityki) rachunkowości | C32: 0
A33: 3.1. | B33: Zmiany kapitału (funduszu) z aktualizacji wyceny | C33: =C34-C36 -> 0
A34: a | B34: zwiększenie (z tytułu) | C34: =SUM(C35:C35) -> 0
B35: - ....... | C35: 0
A36: b | B36: zmniejszenie (z tytułu) | C36: =SUM(C37:C38) -> 0
B37: - zbycia środków trwałych | C37: 0
B38: - ........ | C38: 0
A39: 3.2. | B39: Kapitał (fundusz) z aktualizacji wyceny na koniec okresu | C39: 0
A40: 4 | B40: Pozostałe kapitały (fundusze) rezerwowe na początek okresu | C40: 0
A41: 4.1. | B41: Zmiany pozostałych kapitałów (funduszy) rezerwowych | C41: =C42-C44 -> 0
A42: a | B42: zwiększenie (z tytułu) | C42: =SUM(C43:C43) -> 0
...

Sheet CF mp
B2: Meritoros SA
B3: Rachunek przepływów pieniężnych
B4: za rok obrotowy od 01.01.2025 do 31.12.2025
B5: (metoda pośrednia)
A7: Lp. | B7: Tytuł | C7: 01.01-31.12.2025
A8: A | B8: Przepływy środków pieniężnych z działalności operacyjnej
A9: I | B9: Zysk (strata) netto | C9: ='RZiS Por. '!C61 -> 629709.21 | G9: Koszty finansowe | H9: =H10+H11+H13+H16 -> 51402.06
A10: II | B10: Korekty razem | C10: =SUM(C11:C20) -> -521675.86 | G10: odsetki leasing 751-1-3 | H10: 8100.09
A11: 1 | B11: Amortyzacja | C11: ='RZiS Por. '!C16+-Bilans!H9 -> 172660.91 | G11: odsetki od kredytu overdra 751-1-2 | H11: 6395.53
A12: 2 | B12: Zyski (straty) z tytułu różnic kursowych | C12: 0
A13: 3 | B13: Odsetki i udziały w zyskach (dywidendy) | C13: =-Bilans!H81+Bilans!H141+Bilans!H125+Bilans!H126+H9-H20 -> -9249.02 | G13: prowizje 751-4-1 od udzielonego kredytu + prowizje od zaangażowania | H13: 15724.4
A14: 4 | B14: Zysk (strata) z działalności inwestycyjnej | C14: =-'RZiS Por. '!C28-H24-H27 -> -185087.75
A15: 5 | B15: Zmiana stanu rezerw | C15: =Bilans!E109 -> 0 | G15: kredyt bankowy: spłata kapitału | H15: =17857.14*4 -> 71428.56
A16: 6 | B16: Zmiana stanu zapasów | C16: =-Bilans!E50 -> 0 | G16: kredyt bankowy: spłata odsetek | H16: 21182.04
A17: 7 | B17: Zmiana stanu należności | C17: =-(Bilans!E22+Bilans!E57+Bilans!E67) -> 0
A18: 8 | B18: Zmiana stanu zobowiązań krótkoterminowych, z wyjątkiem pożyczek i kredytów | C18: =Bilans!E129+Bilans!E142+Bilans!E146+Bilans!E147+Bilans!E148-H18 -> -500000 | G18: zobowiązanie z tyt. ZCP | H18: 500000
A19: 9 | B19: Zmiana stanu rozliczeń międzyokresowych | C19: =-Bilans!E91+Bilans!E150-Bilans!E46 -> 0
A20: 10 | B20: Inne korekty | G20: Przychody finansowe | H20: =H21+H22 -> 60651.08
A21: III | B21: Przepływy pieniężne netto z działalności operacyjnej (I ± II) | C21: =C9+C10 -> 108033.35 | G21: dywideda Pepco | H21: 1775.99
A22: B | B22: Przepływy środków pieniężnych z działalności inwestycyjnej | G22: dywidenda Taxaide | H22: 58875.09
A23: I | B23: Wpływy | C23: =C24+C25+C26+C38 -> 245738.83
A24: 1 | B24: Zbycie wartości niematerialnych i prawnych oraz rzeczowych aktywów trwałych | C24: ='RZiS Por. '!C28 -> 325.2 | G24: Sprzedaż PEPCO - zysk | H24: =H28-H26 -> 6206.65
A25: 2 | B25: Zbycie inwestycji w nieruchomości oraz wartości niematerialne i prawne | C25: 0 | G25: wartość księgowa akcji BO | H25: =-Bilans!E82 -> 0
A26: 3 | B26: Z aktywów finansowych, w tym: | C26: =C27+C30 -> 245413.63 | G26: wartość księgowa akcji BZ | H26: =225223.73-46667.83 -> 178555.9
A27: a | B27: w jednostkach powiązanych | C27: =SUM(C28:C29) -> 58875.09 | G27: wartość przeszacowania | H27: =H26-H25 -> 178555.9
B28: - dywidendy i udziały w zyskach | C28: =H22 -> 58875.09 | G28: wpływ na rachunek | H28: 184762.55
B29: - spłata udzielonych pożyczek długoterminowych | C29: =-Bilans!H80 -> 0
A30: b | B30: w pozostałych jednostkach | C30: =SUM(C31:C37) -> 186538.54
B31: - zbycie aktywów finansowych | C31: =H28 -> 184762.55
B32: - aktualizacja wartości aktywów | C32: 0
B33: - dywidendy i udziały w zyskach | C33: =H21 -> 1775.99
B34: - spłata udzielonych pożyczek krótkoterninowych | C34: 0
B35: - spłata udzielonych pożyczek długoterminowych | C35: 0
B36: - odsetki | C36: 0
B37: - inne wpływy z aktywów finansowych | C37: 0
A38: 4 | B38: Inne wpływy inwestycyjne | C38: 0
A39: II | B39: Wydatki | C39: =C40+C41+C42+C51 -> -500000
A40: 1 | B40: Nabycie wartości niematerialnych i prawnych oraz rzeczowych aktywów trwałych | C40: =Bilans!H8+Bilans!H13+Bilans!H20+Bilans!H28-H18 -> -500000
A41: 2 | B41: Inwestycje w nieruchomości oraz wartości niematerialne i prawne | C41: 0
A42: 3 | B42: Na aktywa finansowe, w tym: | C42: =C43+C47 -> 0
...

Sheet CF mb
B1: SPIS TREŚCI
B3: =nazwa_spolki &", " &siedziba -> #REF!
B4: =CHOOSE(jezyk,#REF!,#REF!,#REF!,#REF!) -> #REF!
B5: =CHOOSE(jezyk,#REF!,#REF!,#REF!,#REF!) -> #REF!
B6: =CHOOSE(jezyk,#REF!,#REF!,#REF!,#REF!) -> #REF!
I9: =dzb -> #REF! | J9: =CHOOSE(jezyk,#REF!,#REF!,#REF!,#REF!) -> #REF!
I10: PLN | J10: PLN
B13: A. | C13: =CHOOSE(jezyk,#REF!,#REF!,#REF!,#REF!) -> #REF!
C15: I. | D15: =CHOOSE(jezyk,#REF!,#REF!,#REF!,#REF!) -> #REF! | I15: =SUM(I17:I18) -> 0 | J15: =SUM(J17:J18) -> 0
D17: 1. | E17: =CHOOSE(jezyk,#REF!,#REF!,#REF!,#REF!) -> #REF!
D18: 2. | E18: =CHOOSE(jezyk,#REF!,#REF!,#REF!,#REF!) -> #REF!
C20: II. | D20: =CHOOSE(jezyk,#REF!,#REF!,#REF!,#REF!) -> #REF! | I20: =SUM(I22:I26) -> 0 | J20: =SUM(J22:J26) -> 0
D22: 1. | E22: =CHOOSE(jezyk,#REF!,#REF!,#REF!,#REF!) -> #REF!
D23: 2. | E23: =CHOOSE(jezyk,#REF!,#REF!,#REF!,#REF!) -> #REF!
D24: 3. | E24: =CHOOSE(jezyk,#REF!,#REF!,#REF!,#REF!) -> #REF!
D25: 4. | E25: =CHOOSE(jezyk,#REF!,#REF!,#REF!,#REF!) -> #REF!
D26: 5. | E26: =CHOOSE(jezyk,#REF!,#REF!,#REF!,#REF!) -> #REF!
C28: III. | D28: =CHOOSE(jezyk,#REF!,#REF!,#REF!,#REF!) -> #REF! | I28: =I15-I20 -> 0 | J28: =J15-J20 -> 0
B30: B. | C30: =CHOOSE(jezyk,#REF!,#REF!,#REF!,#REF!) -> #REF!
C32: I. | D32: =CHOOSE(jezyk,#REF!,#REF!,#REF!,#REF!) -> #REF! | I32: =SUM(I34:I36)+I44 -> 0 | J32: =SUM(J34:J36)+J44 -> 0
D34: 1. | E34: =CHOOSE(jezyk,#REF!,#REF!,#REF!,#REF!) -> #REF!
D35: 2. | E35: =CHOOSE(jezyk,#REF!,#REF!,#REF!,#REF!) -> #REF!
D36: 3. | E36: =CHOOSE(jezyk,#REF!,#REF!,#REF!,#REF!) -> #REF! | I36: =SUM(I37:I38) -> 0 | J36: =SUM(J37:J38) -> 0
E37: a) | F37: =CHOOSE(jezyk,#REF!,#REF!,#REF!,#REF!) -> #REF!
E38: b) | F38: =CHOOSE(jezyk,#REF!,#REF!,#REF!,#REF!) -> #REF! | I38: =SUM(I39:I43) -> 0 | J38: =SUM(J39:J43) -> 0
F39: - | G39: =CHOOSE(jezyk,#REF!,#REF!,#REF!,#REF!) -> #REF!
F40: - | G40: =CHOOSE(jezyk,#REF!,#REF!,#REF!,#REF!) -> #REF!
F41: - | G41: =CHOOSE(jezyk,#REF!,#REF!,#REF!,#REF!) -> #REF!
F42: - | G42: =CHOOSE(jezyk,#REF!,#REF!,#REF!,#REF!) -> #REF!
F43: - | G43: =CHOOSE(jezyk,#REF!,#REF!,#REF!,#REF!) -> #REF!
D44: 4. | E44: =CHOOSE(jezyk,#REF!,#REF!,#REF!,#REF!) -> #REF!
C46: II. | D46: =CHOOSE(jezyk,#REF!,#REF!,#REF!,#REF!) -> #REF! | I46: =SUM(I48:I50)+I55 -> 0 | J46: =SUM(J48:J50)+J55 -> 0
D48: 1. | E48: =CHOOSE(jezyk,#REF!,#REF!,#REF!,#REF!) -> #REF!
D49: 2. | E49: =CHOOSE(jezyk,#REF!,#REF!,#REF!,#REF!) -> #REF!
D50: 3. | E50: =CHOOSE(jezyk,#REF!,#REF!,#REF!,#REF!) -> #REF! | I50: =SUM(I51:I52) -> 0 | J50: =SUM(J51:J52) -> 0
E51: a) | F51: =CHOOSE(jezyk,#REF!,#REF!,#REF!,#REF!) -> #REF!
E52: b) | F52: =CHOOSE(jezyk,#REF!,#REF!,#REF!,#REF!) -> #REF! | I52: =SUM(I53:I54) -> 0 | J52: =SUM(J53:J54) -> 0
F53: - | G53: =CHOOSE(jezyk,#REF!,#REF!,#REF!,#REF!) -> #REF!
F54: - | G54: =CHOOSE(jezyk,#REF!,#REF!,#REF!,#REF!) -> #REF!
D55: 4. | E55: =CHOOSE(jezyk,#REF!,#REF!,#REF!,#REF!) -> #REF!
...

Sheet Informacja dodatkowa
A2: Meritoros SA Al. Pokoju 62/8 31-564 Kraków NIP: 6792963176 KRS: 0000935021 REGON: 120618773
A4: DODATKOWE INFORMACJE I OBJAŚNIENIA
A6: 1. Zestawienie wartości niematerialnych i prawnych
A8: Rok obrotowy 2025
A10: Opis | B10: Wartość brutto
B11: Stan na 01.01.2025 | C11: Zwiększenia, z tytułu nabycia | D11: Przemieszczenia wewnętrzne (+/-) | E11: Zmniejszenia z tytułu rozchodu | F11: Stan na 31.12.2025
A13: Koszty zakończonych prac rozwojowych | B13: =F43 -> 0 | C13: 0 | D13: 0 | E13: 0 | F13: =B13+C13++D13-E13 -> 0
A14: Wartość firmy | B14: =F44 -> 1464194.9 | C14: 1373449.4 | D14: 0 | E14: 0 | F14: =B14+C14++D14-E14 -> 2837644.3
A15: Inne wartości niematerialne i prawne | B15: =F45 -> 563734.1 | C15: 0 | D15: 0 | E15: 0 | F15: =B15+C15++D15-E15 -> 563734.1
A16: Zaliczki na wartości niematerialne i prawne | B16: =F46 -> 0 | C16: =Bilans!D12 -> 125550 | D16: 0 | E16: 0 | F16: =B16+C16++D16-E16 -> 125550
A17: Ogółem | B17: =SUM(B13:B16) -> 2027929 | C17: =SUM(C13:C16) -> 1498999.4 | D17: =SUM(D13:D16) -> 0 | E17: =SUM(E13:E16) -> 0 | F17: =B17+C17++D17-E17 -> 3526928.4
A19: =A10 -> Opis | B19: Umorzenie
B20: =B11 -> Stan na 01.01.2025 | C20: =C11 -> Zwiększenia, z tytułu nabycia | D20: =D11 -> Przemieszczenia wewnętrzne (+/-) | E20: =E11 -> Zmniejszenia z tytułu rozchodu | F20: =F11 -> Stan na 31.12.2025
A22: =A13 -> Koszty zakończonych prac rozwojowych | B22: =F52 -> 0 | C22: 0 | D22: 0 | E22: 0 | F22: =B22+C22++D22-E22 -> 0
A23: =A14 -> Wartość firmy | B23: =F53 -> 244032.48 | C23: 521747.21 | D23: 0 | E23: 0 | F23: =B23+C23++D23-E23 -> 765779.69
A24: =A15 -> Inne wartości niematerialne i prawne | B24: =F54 -> 439550.76 | C24: 64183.34 | D24: 0 | E24: 0 | F24: =B24+C24++D24-E24 -> 503734.1
A25: =A16 -> Zaliczki na wartości niematerialne i prawne | B25: =F55 -> 0 | C25: 0 | D25: 0 | E25: 0 | F25: =B25+C25++D25-E25 -> 0
A26: =A17 -> Ogółem | B26: =SUM(B22:B25) -> 683583.24 | C26: =SUM(C22:C25) -> 585930.55 | D26: =SUM(D22:D25) -> 0 | E26: =SUM(E22:E25) -> 0 | F26: =B26+C26++D26-E26 -> 1269513.8
A28: =A19 -> Opis | B28: Wartość netto
B29: =B11 -> Stan na 01.01.2025 | D29: =F11 -> Stan na 31.12.2025 | G29: check
G30: =F11 -> Stan na 31.12.2025 | H30: =B11 -> Stan na 01.01.2025
A31: =A22 -> Koszty zakończonych prac rozwojowych | B31: =B13-B22 -> 0 | D31: =F13-F22 -> 0 | G31: =D31-Bilans!D9 -> 0 | H31: =B31-Bilans!C9 -> 0
A32: =A23 -> Wartość firmy | B32: =B14-B23 -> 1220162.4 | D32: =F14-F23 -> 2071864.6 | G32: =D32-Bilans!D10 -> 0 | H32: =B32-Bilans!C10 -> 0
A33: =A24 -> Inne wartości niematerialne i prawne | B33: =B15-B24 -> 124183.34 | D33: =F15-F24 -> 60000 | G33: =D33-Bilans!D11 -> 0 | H33: =B33-Bilans!C11 -> 0
A34: =A25 -> Zaliczki na wartości niematerialne i prawne | B34: =B16-B25 -> 0 | D34: =F16-F25 -> 125550 | G34: =D34-Bilans!D12 -> 0 | H34: =B34-Bilans!C12 -> 0
A35: =A26 -> Ogółem | B35: =SUM(B31:B34) -> 1344345.7 | D35: =SUM(D31:D34) -> 2257414.6 | G35: =D35-Bilans!D8 -> 0 | H35: =B35-Bilans!C8 -> 0
A38: Rok obrotowy 2024
A40: =A10 -> Opis | B40: =B10 -> Wartość brutto
B41: Stan na 01.01.2024 | C41: =C11 -> Zwiększenia, z tytułu nabycia | D41: =D11 -> Przemieszczenia wewnętrzne (+/-) | E41: =E11 -> Zmniejszenia z tytułu rozchodu | F41: Stan na 31.12.2024
A43: =A13 -> Koszty zakończonych prac rozwojowych | B43: 0 | C43: 0 | D43: 0 | E43: 0 | F43: =B43+C43+D43-E43 -> 0
A44: =A14 -> Wartość firmy | B44: 0 | C44: 1464194.9 | D44: 0 | E44: 0 | F44: =B44+C44+D44-E44 -> 1464194.9
A45: =A15 -> Inne wartości niematerialne i prawne | B45: 551184.1 | C45: 12550 | D45: 0 | E45: 0 | F45: =B45+C45+D45-E45 -> 563734.1
A46: =A16 -> Zaliczki na wartości niematerialne i prawne | B46: 0 | C46: 0 | D46: 0 | E46: 0 | F46: =B46+C46+D46-E46 -> 0
A47: =A17 -> Ogółem | B47: =SUM(B43:B46) -> 551184.1 | C47: =SUM(C43:C46) -> 1476744.9 | D47: =SUM(D43:D46) -> 0 | E47: =SUM(E43:E46) -> 0 | F47: =B47+C47+D47-E47 -> 2027929
A49: =A19 -> Opis | B49: =B19 -> Umorzenie
B50: =B41 -> Stan na 01.01.2024 | C50: =C20 -> Zwiększenia, z tytułu nabycia | D50: =D20 -> Przemieszczenia wewnętrzne (+/-) | E50: =E20 -> Zmniejszenia z tytułu rozchodu | F50: =F41 -> Stan na 31.12.2024
A52: =A22 -> Koszty zakończonych prac rozwojowych | B52: 0 | C52: 0 | D52: 0 | E52: 0 | F52: =B52+C52+D52-E52 -> 0
A53: =A23 -> Wartość firmy | B53: 0 | C53: 244032.48 | D53: 0 | E53: 0 | F53: =B53+C53+D53-E53 -> 244032.48
A54: =A24 -> Inne wartości niematerialne i prawne | B54: 330736.93 | C54: 108813.83 | D54: 0 | E54: 0 | F54: =B54+C54+D54-E54 -> 439550.76
A55: =A25 -> Zaliczki na wartości niematerialne i prawne | B55: 0 | C55: 0 | D55: 0 | E55: 0 | F55: =B55+C55+D55-E55 -> 0
...

Sheet Wskaźniki
A1: Wskaźnik/Rok | B1: Sposób wyliczenia | C1: 2025 | D1: 2024 | E1: 2023 | F1: 2022 | G1: 2021 | H1: 2020
A2: Rentowność aktywów ROA | B2: zysk netto/aktywa ogółem | C2: ='RZiS Por. '!C61/Bilans!D94 -> 0.0850133 | D2: 0.0764 | E2: 0.1262 | F2: 0.1945 | G2: 0.115 | H2: 0.1459
A3: Rentowność sprzedaży netto ROS | B3: zysk netto/przychody ze sprzedaży netto | C3: ='RZiS Por. '!C61/'RZiS Por. '!C9 -> 0.025370403 | D3: 0.0204 | E3: 0.0306 | F3: 0.0494 | G3: 0.0306 | H3: 0.0787
A4: Płynność gotówkowa (I stopnia) | B4: inwestycje krótkoterminowe/zobowiązania krótkoterminowe | C4: =Bilans!D74/Bilans!D126 -> 0.18490582 | D4: 0.07 | E4: 0.15 | F4: 0.52 | G4: 0.6 | H4: 0.84
A5: Trwałość struktury finansowania | B5: kapitał stały/pasywa ogółem | C5: =Bilans!D96/Bilans!D155 -> 0.30020617 | D5: 0.29 | E5: 0.34 | F5: 0.39 | G5: 0.37 | H5: 0.4
A6: Rentowność kapitału ROE | B6: zysk netto/kapitał własny | C6: ='RZiS Por. '!C61/Bilans!D96 -> 0.28318306 | D6: 0.2497 | E6: 0.371 | F6: 0.5025
A7: Rentowność kapitału pracującego ROIC | B7: zysk ze sprzedaży/kapitał własny + dług netto | C7: =('RZiS Por. '!C36*0.81)/(Bilans!D96-Bilans!D87) -> 0.37089949 | D7: 0.2122 | E7: 0.3427

Sheet SPRAWOZDANIE
B1: SPIS TREŚCI
H21: =CHOOSE(jezyk,#REF!,#REF!,#REF!,#REF!) -> #REF!
H22: =#REF! -> #REF!
H23: =CHOOSE(jezyk,#REF!,#REF!,#REF!,#REF!) -> #REF!
B47: =CHOOSE(jezyk,#REF!,#REF!,#REF!,#REF!) -> #REF!
T48: =CHOOSE(jezyk,#REF!,#REF!,#REF!,#REF!) -> #REF!
B51: =CHOOSE(jezyk,#REF!,#REF!,#REF!,#REF!) -> #REF!
C54: 1. | D54: =CHOOSE(jezyk,#REF!,#REF!,#REF!,#REF!) -> #REF! | U54: =W73 -> 3
C56: 2. | D56: =CHOOSE(jezyk,#REF!,#REF!,#REF!,#REF!) -> #REF! | U56: =W150 -> 5
C58: 3. | D58: =CHOOSE(jezyk,#REF!,#REF!,#REF!,#REF!) -> #REF! | U58: =W161 -> 5
C60: 4. | D60: =CHOOSE(jezyk,#REF!,#REF!,#REF!,#REF!) -> #REF! | U60: =W180 -> 5
C62: 5. | D62: =CHOOSE(jezyk,#REF!,#REF!,#REF!,#REF!) -> #REF! | U62: =W188 -> 5
C64: 6. | D64: =CHOOSE(jezyk,#REF!,#REF!,#REF!,#REF!) -> #REF! | U64: =W198 -> 6
C66: 7. | D66: =CHOOSE(jezyk,#REF!,#REF!,#REF!,#REF!) -> #REF! | U66: =W209 -> 6
C68: 8. | D68: =CHOOSE(jezyk,#REF!,#REF!,#REF!,#REF!) -> #REF! | U68: =W219 -> 6
C70: 9. | D70: =CHOOSE(jezyk,#REF!,#REF!,#REF!,#REF!) -> #REF! | U70: =W227 -> 7
B73: 1. | C73: =CHOOSE(jezyk,#REF!,#REF!,#REF!,#REF!) -> #REF! | W73: 3 | X73: numer strony
C76: =CHOOSE(jezyk,#REF!,#REF!,#REF!,#REF!) -> #REF!
C78: =nazwa_spolki -> #REF!
C80: =CHOOSE(jezyk,#REF!,#REF!,#REF!,#REF!) -> #REF!
C82: =CHOOSE(jezyk,#REF!,#REF!,#REF!,#REF!) -> #REF!
C84: =CHOOSE(jezyk,#REF!,#REF!,#REF!,#REF!) -> #REF!
B86: =CHOOSE(jezyk,#REF!,#REF!,#REF!,#REF!) -> #REF!
C88: =CHOOSE(jezyk,#REF!,#REF!,#REF!,#REF!) -> #REF!
C90: Szczegółowe informacje dotyczące udziałowców.
B92: =CHOOSE(jezyk,#REF!,#REF!,#REF!,#REF!) -> #REF!
C94: =CHOOSE(jezyk,#REF!,#REF!,#REF!,#REF!) -> #REF!
E96: =CHOOSE(jezyk,#REF!,#REF!,#REF!,#REF!) -> #REF!
E98: =CHOOSE(jezyk,#REF!,#REF!,#REF!,#REF!) -> #REF!
B100: =CHOOSE(jezyk,#REF!,#REF!,#REF!,#REF!) -> #REF!
C102: =CHOOSE(jezyk,#REF!,#REF!,#REF!,#REF!) -> #REF!
E104: =CHOOSE(jezyk,#REF!,#REF!,#REF!,#REF!) -> #REF!
E106: =CHOOSE(jezyk,#REF!,#REF!,#REF!,#REF!) -> #REF!
E108: =CHOOSE(jezyk,#REF!,#REF!,#REF!,#REF!) -> #REF!
B111: =CHOOSE(jezyk,#REF!,#REF!,#REF!,#REF!) -> #REF!
C113: =CHOOSE(jezyk,#REF!,#REF!,#REF!,#REF!) -> #REF!
C115: -
C117: -
C119: -
C121: -
...

Sheet SPRAWOZDANIE S.A.
B1: SPIS TREŚCI
H21: =CHOOSE(jezyk,#REF!,#REF!,#REF!,#REF!) -> #REF!
H22: =#REF! -> #REF!
H23: =CHOOSE(jezyk,#REF!,#REF!,#REF!,#REF!) -> #REF!
B47: =CHOOSE(jezyk,#REF!,#REF!,#REF!,#REF!) -> #REF!
T48: =CHOOSE(jezyk,#REF!,#REF!,#REF!,#REF!) -> #REF!
B51: =CHOOSE(jezyk,#REF!,#REF!,#REF!,#REF!) -> #REF!
C54: 1. | D54: =CHOOSE(jezyk,#REF!,#REF!,#REF!,#REF!) -> #REF! | U54: =W75 -> 3
C56: 2. | D56: =CHOOSE(jezyk,#REF!,#REF!,#REF!,#REF!) -> #REF! | U56: =W152 -> 5
C58: 3. | D58: =CHOOSE(jezyk,#REF!,#REF!,#REF!,#REF!) -> #REF! | U58: =W163 -> 5
C60: 4. | D60: =CHOOSE(jezyk,#REF!,#REF!,#REF!,#REF!) -> #REF! | U60: =W182 -> 5
C62: 5. | D62: =CHOOSE(jezyk,#REF!,#REF!,#REF!,#REF!) -> #REF! | U62: =W189 -> 5
C64: 6. | D64: =CHOOSE(jezyk,#REF!,#REF!,#REF!,#REF!) -> #REF! | U64: =W199 -> 6
C66: 7. | D66: =CHOOSE(jezyk,#REF!,#REF!,#REF!,#REF!) -> #REF! | U66: =W210 -> 6
C68: 8. | D68: =CHOOSE(jezyk,#REF!,#REF!,#REF!,#REF!) -> #REF! | U68: =W220 -> 6
C70: 9. | D70: =CHOOSE(jezyk,#REF!,#REF!,#REF!,#REF!) -> #REF! | U70: =W229 -> 7
C72: 10. | D72: =CHOOSE(jezyk,#REF!,#REF!,#REF!,#REF!) -> #REF! | U72: =W235 -> 7
B75: 1. | C75: =CHOOSE(jezyk,#REF!,#REF!,#REF!,#REF!) -> #REF! | W75: 3 | X75: numer strony
C78: =CHOOSE(jezyk,#REF!,#REF!,#REF!,#REF!) -> #REF!
C80: =nazwa_spolki -> #REF!
C82: =CHOOSE(jezyk,#REF!,#REF!,#REF!,#REF!) -> #REF!
C84: =CHOOSE(jezyk,#REF!,#REF!,#REF!,#REF!) -> #REF!
C86: =CHOOSE(jezyk,#REF!,#REF!,#REF!,#REF!) -> #REF!
B88: =CHOOSE(jezyk,#REF!,#REF!,#REF!,#REF!) -> #REF!
C90: =CHOOSE(jezyk,#REF!,#REF!,#REF!,#REF!) -> #REF!
C92: Szczegółowe informacje dotyczące udziałowców.
B94: =CHOOSE(jezyk,#REF!,#REF!,#REF!,#REF!) -> #REF!
C96: =CHOOSE(jezyk,#REF!,#REF!,#REF!,#REF!) -> #REF!
E98: =CHOOSE(jezyk,#REF!,#REF!,#REF!,#REF!) -> #REF!
E100: =CHOOSE(jezyk,#REF!,#REF!,#REF!,#REF!) -> #REF!
B102: =CHOOSE(jezyk,#REF!,#REF!,#REF!,#REF!) -> #REF!
C104: =CHOOSE(jezyk,#REF!,#REF!,#REF!,#REF!) -> #REF!
E106: =CHOOSE(jezyk,#REF!,#REF!,#REF!,#REF!) -> #REF!
E108: =CHOOSE(jezyk,#REF!,#REF!,#REF!,#REF!) -> #REF!
E110: =CHOOSE(jezyk,#REF!,#REF!,#REF!,#REF!) -> #REF!
B113: =CHOOSE(jezyk,#REF!,#REF!,#REF!,#REF!) -> #REF!
C115: =CHOOSE(jezyk,#REF!,#REF!,#REF!,#REF!) -> #REF!
C117: -
C119: -
C121: -
...
