Workbook

Sheet Aktywa
A1: Meritoros S.A.
A2: ul. Krowoderska 63B/4
A3: 31-158 Kraków
A4: NIP: 6792963176 | AJ4: =5217673.94-5128466.77 -> 89207.17
A6: Bilans
A7: Aktywa
A8: Lp. | B8: Tytuł | C8: Stan na dzień 31.12.2022 | D8: Stan na dzień 31.03.2023 | E8: Stan na dzień 30.06.2023 | F8: Stan na dzień 30.09.2023 | G8: Stan na dzień 31.12.2023 | H8: Stan na dzień 31.03.2024 | I8: Stan na dzień 30.06.2024 | J8: Stan na dzień 30.09.2024 | K8: Stan na dzień 31.12.2024 | L8: Mapowanie | N8: Q12024 | O8: 04-06 | P8: Q22024 | R8: zmiana stanu Q12023/2022 | X8: Q32023 | Z8: Q42023 | AB8: Q12024 | AE8: Q22024
A9: A | B9: AKTYWA TRWAŁE | C9: 546413.64 | D9: =D10+D15+D24+D28+D48 -> 1194662.6 | E9: =E10+E15+E24+E28+E48 -> 1159691 | F9: =F10+F15+F24+F28+F48 -> 1152209.2 | G9: =G10+G15+G24+G28+G48 -> 1241316.9 | H9: =H10+H15+H24+H28+H48 -> 2654107.2 | I9: =I10+I15+I24+I28+I48 -> 2543604.5 | J9: =J10+J15+J24+J28+J48 -> 2535329.6 | K9: =K10+K15+K24+K28+K48 -> 2400065.1 | T9: q12024 | U9: ŚT | V9: Q32023 | W9: Q42023 | X9: wnip | Y9: śt | Z9: wnip | AA9: śt | AB9: wnip | AC9: śt | AE9: wnip | AF9: śt
A10: I | B10: Wartości niematerialne i prawne | C10: 268870.99 | D10: =SUM(D11:D14) -> 319173.19 | E10: =SUM(E11:E14) -> 299837.29 | F10: =SUM(F11:F14) -> 262580.43 | G10: =SUM(G11:G14) -> 220447.17 | H10: =SUM(H11:H14) -> 1618099.2 | I10: =SUM(I11:I14) -> 1532626.4 | J10: =SUM(J11:J14) -> 1437637.9 | K10: =SUM(K11:K14) -> 1344345.7 | M10: =E10-D10 -> -19335.9 | N10: =H10-G10 -> 1397652 | O10: =I10-H10 -> -85472.75 | P10: =I10-G10 -> 1312179.3 | Q10: 070 OBROTY ma | R10: =F10-C10 -> -6290.56 | S10: =G10-C10 -> -48423.82 | T10: =H10-G10 -> 1397652 | U10: amortyzacja ŚT | V10: -47598.25 | W10: -61914.81 | Y10: =V10 -> -47598.25 | AA10: =W10 -> -61914.81 | AC10: -12469.76 | AD10: p | AF10: -31823.4
A11: 1 | B11: Koszty zakończonych prac rozwojowych | C11: 0 | D11: 0 | E11: 0 | F11: 0 | G11: 0 | H11: 0 | I11: 0 | J11: 0 | K11: 0 | Q11: 073 OBROTY MA | U11: amortyzacja WNIP | V11: =-104465.56 -> -104465.56 | W11: -148714.56 | X11: =-104465.56 -> -104465.56 | Z11: =W11 -> -148714.56 | AB11: -66542.85 | AD11: =AB11 -> -66542.85 | AE11: -165156.34 | AL11: zak zcp | AM11: 1464194.9
A12: 2 | B12: Wartość firmy | C12: 0 | D12: 0 | E12: 0 | F12: 0 | G12: 0 | H12: 1439791.6 | I12: 1366581.9 | J12: 1293372.1 | K12: 1220162.4 | Q12: 84 | U12: zakup ŚT i ŚT w bud | V12: =337.4+3589.43 -> 3926.83 | W12: 337.4 | Y12: =V12 -> 3926.83 | AA12: =W12 -> 337.4 | AC12: 0 | AD12: =AC12 -> 0 | AF12: 0 | AG12: =K12-G12 -> 1220162.4 | AL12: am zcp | AM12: -244032.48
A13: 3 | B13: Inne wartości niematerialne i prawne | C13: 268870.99 | D13: 319173.19 | E13: 299837.29 | F13: 262580.43 | G13: 220447.17 | H13: 178307.57 | I13: 166044.57 | J13: 144265.79 | K13: 124183.34 | L13: 020-3, 073-3 | Q13: 020 OBROTY WN | U13: zakup WNIP | V13: 98175 | W13: 100290.74 | X13: 98175 | Z13: =W13 -> 100290.74 | AB13: 1464194.9 | AD13: =AB13 -> 1464194.9 | AE13: 1477335.6 | AG13: =K13-G13 -> -96263.83 | AI13: amort | AJ13: =RPP!N7 -> 427135.58 | AM13: =SUM(AM11:AM12) -> 1220162.4
A14: 4 | B14: Zaliczki na wartości niematerialne i prawne | C14: 0 | D14: 0 | E14: 0 | F14: 0 | G14: 0 | H14: 0 | I14: 0 | J14: 0 | K14: 0 | Q14: 010 OBROTY MA | U14: likwidacja 010 | V14: -17325.37 | W14: -58801.75 | Y14: -17325.37 | AA14: =W14 -> -58801.75 | AC14: 0 | AF14: 0 | AM14: =AM13-AG12 -> 0
A15: II | B15: Rzeczowe aktywa trwałe | C15: 163464.19 | D15: =D16+D22+D23 -> 147008.97 | E15: =E16+E22+E23 -> 131373.28 | F15: =F16+F22+F23 -> 119079.18 | G15: =G16+G22+G23 -> 97601.62 | H15: =H16+H22+H23 -> 112739.92 | I15: =I16+I22+I23 -> 196749.76 | J15: =J16+J22+J23 -> 174423.62 | K15: =K16+K22+K23 -> 154283.89 | M15: =E15-D15 -> -15635.69 | N15: =H15-G15 -> 15138.3 | O15: =I15-H15 -> 84009.84 | P15: =I15-G15 -> 99148.14 | Q15: 070 OBROTY WN | R15: =F15-C15 -> -44385.01 | S15: =G15-C15 -> -65862.57 | T15: =H15-G15 -> 15138.3 | U15: likwidacja 070 | V15: 16611.78 | W15: 54516.59 | Y15: 16611.78 | AA15: =W15 -> 54516.59 | AC15: 0 | AF15: 0 | AL15: zak wnip | AM15: 12550
A16: 1 | B16: Środki trwałe | C16: 163464.19 | D16: =SUM(D17:D21) -> 147008.97 | E16: =SUM(E17:E21) -> 131373.28 | F16: =SUM(F17:F21) -> 115489.75 | G16: =SUM(G17:G21) -> 97601.62 | H16: =SUM(H17:H21) -> 112739.92 | I16: =SUM(I17:I21) -> 196749.76 | J16: =SUM(J17:J21) -> 174423.62 | K16: =SUM(K17:K21) -> 154283.89 | U16: leasing | AF16: 130971.54 | AG16: =K16-G16 -> 56682.27 | AL16: am wnip | AM16: -108813.83
A17: a | B17: grunty (w tym prawo użytkowania wieczystego gruntu) | C17: 0 | D17: 0 | E17: 0 | F17: 0 | G17: 0 | H17: 0 | I17: 0 | J17: 0 | K17: 0 | U17: sprzedaż netto ŚT | W17: 0 | AA17: =W17 -> 0 | AC17: =Y17 -> 0 | AF17: =AB17 -> 0 | AM17: =SUM(AM15:AM16) -> -96263.83
A18: b | B18: budynki, lokale, prawa do lokali i obiekty inżynierii lądowej i wodnej | C18: 0 | D18: 0 | E18: 0 | F18: 0 | G18: 0 | H18: 0 | I18: 0 | J18: 0 | K18: 0 | U18: razem | V18: =SUM(V10:V17) -> -50675.57 | W18: =SUM(W10:W17) -> -114286.39 | X18: =SUM(X10:X17) -> -6290.56 | Y18: =SUM(Y10:Y17) -> -44385.01 | Z18: =SUM(Z10:Z17) -> -48423.82 | AA18: =SUM(AA10:AA17) -> -65862.57 | AB18: =SUM(AB10:AB17) -> 1397652 | AC18: =SUM(AC10:AC17) -> -12469.76 | ... AF18: =SUM(AF10:AF17) -> 99148.14 | AM18: =AM17-AG13 -> 0 | AP18: =AM16+AM21 -> -183103.1
A19: c | B19: urządzenia techniczne i maszyny | C19: 123765.57 | D19: 110208.21 | E19: 97443.01 | F19: 85019.86 | G19: 69771.57 | H19: 87234.49 | I19: 173568.91 | J19: 153461.69 | K19: 135412.02 | L19: 010-2, 070-2 | U19: różnica | V19: =R10+R15-V18 -> 0 | W19: =S10+S15-W18 -> 0 | X19: =R10-X18 -> 0 | Y19: =R15-Y18 -> 0 | Z19: =S10-Z18 -> 0 | AA19: =S15-AA18 -> 0 | AB19: =T10-AB18 -> 0 | AC19: =T15-AC18 -> 27608.06 | AD19: =T10+T15-AD18 -> 15138.3 | AE19: =P15-AE18 -> -1213031.1 | AF19: =P15-AF18 -> 0 | AL19: zak ŚT | AM19: 130971.54 | AP19: =AP18+RZIS!Q16 -> 0
A20: d | B20: środki transportu | C20: 4607.05 | D20: 4330.63 | E20: 4054.21 | F20: 3777.79 | G20: 3501.36 | H20: 3224.94 | I20: 2948.52 | J20: 2672.1 | K20: 2395.67 | U20: brak zapłaty za ŚT | V20: 0 | W20: 0 | AE20: =P10+P15-AE18 -> 99148.14 | AL20: lik ŚT | AM20: -6265.27 | AP20: PK amortyzacja leasing dell
A21: e | B21: inne środki trwałe | C21: 35091.57 | D21: 32470.13 | E21: 29876.06 | F21: 26692.1 | G21: 24328.69 | H21: 22280.49 | I21: 20232.33 | J21: 18289.83 | K21: 16476.2 | L21: 010-4, 070-4 | Q21: =SUM(N10:N15) -> 1412790.3 | U21: zapłata za ŚT | V21: 0 | W21: 0 | AD21: =AD11+AD19 -> -51404.55 | AE21: =AE20+AE11 -> -66008.2 | AL21: am ŚT | AM21: -74289.27 | AP21: 2704.46
A22: 2 | B22: Środki trwałe w budowie | C22: 0 | D22: 0 | E22: 0 | F22: 3589.43 | G22: 0 | H22: 0 | I22: 0 | J22: 0 | K22: 0 | L22: 084 | AL22: um lik ŚT | AM22: 6265.27 | AP22: =AP21+AP19 -> 2704.46
A23: 3 | B23: Zaliczki na środki trwałe w budowie | C23: 0 | D23: 0 | E23: 0 | F23: 0 | G23: 0 | H23: 0 | I23: 0 | J23: 0 | K23: 0 | AM23: =SUM(AM19:AM22) -> 56682.27
A24: III | B24: Należności długoterminowe | C24: 43683.62 | D24: =SUM(D25:D27) -> 55246.56 | E24: =SUM(E25:E27) -> 55246.56 | F24: =SUM(F25:F27) -> 97315.74 | G24: =SUM(G25:G27) -> 109039.81 | H24: =SUM(H25:H27) -> 109039.81 | I24: 0 | J24: =SUM(J25:J27) -> 109039.81 | K24: =SUM(K25:K27) -> 0 | AG24: =K24-G24 -> -109039.81 | AM24: =AM23-AG16 -> 0
A25: 1 | B25: Od jednostek powiązanych | C25: 0 | D25: 0 | E25: 0 | F25: 0 | G25: 0 | H25: 0 | J25: 0 | K25: 0
A26: 2 | B26: Od pozostałych jednostek, w których jednostka posiada zaangażowanie w kapitale | C26: 0 | D26: 0 | E26: 0 | F26: 0 | G26: 0 | H26: 0 | I26: 0 | J26: 0 | K26: 0
A27: 3 | B27: Od jednostek pozostałych | C27: 43683.62 | D27: 55246.56 | E27: 55246.56 | F27: 97315.74 | G27: 109039.81 | H27: 109039.81 | I27: 109039.81 | J27: 109039.81 | K27: 0 | L27: 249
A28: IV | B28: Inwestycje długoterminowe | C28: 0 | D28: =D29+D30+D31+D47 -> 602839 | E28: =E29+E30+E31+E47 -> 602839 | F28: =F29+F30+F31+F47 -> 602839 | G28: =G29+G30+G31+G47 -> 723161 | H28: =H29+H30+H31+H47 -> 723161 | I28: =I29+I30+I31+I47 -> 723161 | J28: =J29+J30+J31+J47 -> 723161 | K28: =K29+K30+K31+K47 -> 723161 | AG28: =K28-G28 -> 0
A29: 1 | B29: Nieruchomości | C29: 0 | D29: 0 | E29: 0 | F29: 0 | G29: 0 | H29: 0 | I29: 0 | J29: 0 | K29: 0
A30: 2 | B30: Wartości niematerialne i prawne | C30: 0 | D30: 0 | E30: 0 | F30: 0 | G30: 0 | H30: 0 | I30: 0 | J30: 0 | K30: 0
A31: 3 | B31: Długoterminowe aktywa finansowe | C31: 0 | D31: =D32+D37+D42 -> 602839 | E31: =E32+E37+E42 -> 602839 | F31: =F32+F37+F42 -> 602839 | G31: =G32+G37+G42 -> 723161 | H31: =H32+H37+H42 -> 723161 | I31: =I32+I37+I42 -> 723161 | J31: =J32+J37+J42 -> 723161 | K31: =K32+K37+K42 -> 723161
A32: a | B32: w jednostkach powiązanych | C32: 0 | D32: =SUM(D33:D36) -> 602839 | E32: =SUM(E33:E36) -> 602839 | F32: =SUM(F33:F36) -> 602839 | G32: =SUM(G33:G36) -> 723161 | H32: =SUM(H33:H36) -> 723161 | I32: =SUM(I33:I36) -> 723161 | J32: =SUM(J33:J36) -> 723161 | K32: 723161
B33: - udziały lub akcje | C33: 0 | D33: 602839 | E33: 602839 | F33: 602839 | G33: 723161 | H33: 723161 | I33: 723161 | J33: 723161 | K33: 723161
B34: - inne papiery wartościowe | C34: 0 | D34: 0 | E34: 0 | F34: 0 | G34: 0 | H34: 0 | I34: 0 | J34: 0 | K34: 0
B35: - udzielone pożyczki | C35: 0 | D35: 0 | E35: 0 | F35: 0 | G35: 0 | H35: 0 | I35: 0 | J35: 0 | K35: 0
B36: - inne długoterminowe aktywa finansowe | C36: 0 | D36: 0 | E36: 0 | F36: 0 | G36: 0 | H36: 0 | I36: 0 | J36: 0 | K36: 0
A37: b | B37: w pozostałych jednostkach, w których jednostka posiada zaangażowanie w kapitale | C37: 0 | D37: 0 | E37: =SUM(E38:E41) -> 0 | F37: =SUM(F38:F41) -> 0 | G37: =SUM(G38:G41) -> 0 | H37: =SUM(H38:H41) -> 0 | I37: =SUM(I38:I41) -> 0 | J37: =SUM(J38:J41) -> 0 | K37: =SUM(K38:K41) -> 0
B38: - udziały lub akcje | C38: 0 | D38: 0 | E38: 0 | F38: 0 | G38: 0 | H38: 0 | I38: 0 | J38: 0 | K38: 0
B39: - inne papiery wartościowe | C39: 0 | D39: 0 | E39: 0 | F39: 0 | G39: 0 | H39: 0 | I39: 0 | J39: 0 | K39: 0
B40: - udzielone pożyczki | C40: 0 | D40: 0 | E40: 0 | F40: 0 | G40: 0 | H40: 0 | I40: 0 | J40: 0 | K40: 0
B41: - inne długoterminowe aktywa finansowe | C41: 0 | D41: 0 | E41: 0 | F41: 0 | G41: 0 | H41: 0 | I41: 0 | J41: 0 | K41: 0
...

Sheet Pasywa
A1: Meritoros S.A.
A2: ul. Krowoderska 63B/4
A3: 31-158 Kraków
A4: NIP: 6792963176
A6: Bilans
A7: Pasywa
A8: Lp. | B8: Tytuł | C8: Stan na dzień 31.12.2022 | D8: Stan na dzień 31.03.2023 | E8: Stan na dzień 30.06.2023 | F8: Stan na dzień 30.09.2023 | G8: Stan na dzień 31.12.2023 | H8: Stan na dzień 31.03.2024 | I8: Stan na dzień 30.06.2024 | J8: Stan na dzień 30.09.2024 | K8: Stan na dzień 31.12.2024 | L8: Mapowanie | O8: Q12024 | T8: Q22024
A9: A | B9: KAPITAŁ (FUNDUSZ) WŁASNY | C9: 1040229.4 | D9: =SUM(D10,D11,D13,D15,D18:D20) -> 1483892.2 | E9: =SUM(E10,E11,E13,E15,E18:E20) -> 1631767 | F9: =SUM(F10,F11,F13,F15,F18:F20) -> 1500448.5 | G9: =SUM(G10,G11,G13,G15,G18:G20) -> 1195892.2 | H9: =SUM(H10,H11,H13,H15,H18:H20) -> 1170672.2 | I9: =SUM(I10,I11,I13,I15,I18:I20) -> 1137660.5 | J9: =SUM(J10,J11,J13,J15,J18:J20) -> 1099971 | K9: =SUM(K10,K11,K13,K15,K18:K20) -> 1593973.3
A10: I | B10: Kapitał (fundusz) podstawowy | C10: 120000 | D10: 120000 | E10: 120000 | F10: 120000 | G10: 120000 | H10: 120000 | I10: 120000 | J10: 120000 | K10: 120000 | L10: 803
A11: II | B11: Kapitał (fundusz) zapasowy, w tym: | C11: 397531.17 | D11: =397531.17 -> 397531.17 | E11: 397531.17 | F11: 632229.4 | G11: 632229.4 | H11: 632229.4 | I11: 632229.4 | J11: 1075892.2 | K11: 1075892.2 | L11: 804 | W11: =K11-G11 -> 443662.78
B12: - nadwyżka wartości sprzedaży (wartości emisyjnej) nad wartością nominalną udziałów (akcji) | C12: 0 | D12: 0 | E12: 0 | F12: 0 | G12: 0 | H12: 0 | I12: 0 | J12: 0 | K12: 0
A13: III | B13: Kapitał (fundusz) z aktualizacji wyceny, w tym: | C13: 0 | D13: 0 | E13: 0 | F13: 0 | G13: 0 | H13: 0 | I13: 0 | J13: 0 | K13: 0
B14: - z tytułu aktualizacji wartości godziwej | C14: 0 | D14: 0 | E14: 0 | F14: 0 | G14: 0 | H14: 0 | I14: 0 | J14: 0 | K14: 0
A15: IV | B15: Pozostałe kapitały (fundusze) rezerwowe, w tym: | C15: 0 | D15: 0 | E15: 0 | F15: 0 | G15: 0 | H15: 0 | I15: 0 | J15: 0 | K15: 0
B16: - tworzone zgodnie z umową (statutem) spółki | C16: 0 | D16: 0 | E16: 0 | F16: 0 | G16: 0 | H16: 0 | I16: 0 | J16: 0 | K16: 0
B17: - na udziały (akcje) własne | C17: 0 | D17: 0 | E17: 0 | F17: 0 | G17: 0 | H17: 0 | I17: 0 | J17: 0 | K17: 0
A18: V | B18: Zysk (strata) z lat ubiegłych | C18: 0 | D18: =$C$19 -> 522698.23 | E18: =$C$19 -> 522698.23 | F18: 288000 | G18: 0 | H18: 443662.78 | I18: 443662.78 | J18: 0 | K18: 0 | N18: =E18-D18 -> 0 | O18: =H18-G18 -> 443662.78 | P18: =I18-H18 -> 0 | T18: =I18-G18 -> 443662.78
A19: VI | B19: Zysk (strata) netto | C19: 522698.23 | D19: =RZIS!G61 -> 443662.78 | E19: =RZIS!H61 -> 591537.55 | F19: =RZIS!I61 -> 460219.07 | G19: =RZIS!J61 -> 443662.78 | H19: -25219.97 | I19: =RZIS!O61 -> -58231.69 | J19: =RZIS!P61 -> -95921.18 | K19: =RZIS!Q61 -> 398081.12 | N19: =E19-D19 -> 147874.77 | O19: =H19-G19 -> -468882.75 | P19: =I19-H19 -> -33011.72 | T19: =I19-G19 -> -501894.47 | W19: =K19-G19 -> -45581.66
A20: VII | B20: Odpisy z zysku netto w ciągu roku obrotowego (wielkość ujemna) | C20: 0 | D20: 0 | E20: 0 | F20: 0 | G20: 0 | H20: 0 | I20: 0 | J20: 0 | K20: 0
A21: B | B21: ZOBOWIĄZANIA I REZERWY NA ZOBOWIĄZANIA | C21: 1647568.9 | D21: =D22+D30+D39+D63 -> 2514799.2 | E21: =E22+E30+E39+E63 -> 2421824.7 | F21: =F22+F30+F39+F63 -> 2522869.4 | G21: =G22+G30+G39+G63 -> 2320203.6 | H21: =H22+H30+H39+H63 -> 4394334.7 | I21: =I22+I30+I39+I63 -> 4304356.1 | J21: =J22+J30+J39+J63 -> 4299174.4 | K21: =K22+K30+K39+K63 -> 3619700.6 | L21: =I21-G21 -> 1984152.6
A22: I | B22: Rezerwy na zobowiązania | C22: 155616.6 | D22: =D23+D24+D27 -> 650510.55 | E22: =E23+E24+E27 -> 622089.6 | F22: =F23+F24+F27 -> 622089.6 | G22: =G23+G24+G27 -> 171611.65 | H22: =H23+H24+H27 -> 644595.3 | I22: =I23+I24+I27 -> 644595.3 | J22: =J23+J24+J27 -> 630601.65 | K22: =K23+K24+K27 -> 174140.91 | N22: =E22-D22 -> -28420.95 | O22: =H22-G22 -> 472983.65 | P22: =I22-H22 -> 0 | T22: =I22-G22 -> 472983.65 | W22: =K22-G22 -> 2529.26
A23: 1 | B23: Rezerwa z tytułu odroczonego podatku dochodowego | C23: 28399.31 | D23: 28399.31 | E23: 28399.31 | F23: 28399.31 | G23: 17246.8 | H23: 17246.8 | I23: 17246.8 | J23: 17246.8 | K23: 30341.56
A24: 2 | B24: Rezerwa na świadczenia emerytalne i podobne | C24: 118517.29 | D24: =SUM(D25:D26) -> 622111.24 | E24: =SUM(E25:E26) -> 593690.29 | F24: =SUM(F25:F26) -> 593690.29 | G24: =SUM(G25:G26) -> 141164.85 | H24: =SUM(H25:H26) -> 627348.5 | I24: =SUM(I25:I26) -> 627348.5 | J24: =SUM(J25:J26) -> 613354.85 | K24: =SUM(K25:K26) -> 127799.35
B25: - długoterminowa | C25: 0 | D25: 0 | E25: 0 | F25: 0 | G25: 0 | H25: 0 | I25: 0 | J25: 0 | K25: 0
B26: - krótkoterminowa | C26: 118517.29 | D26: 622111.24 | E26: 593690.29 | F26: 593690.29 | G26: =154364.85-13200 -> 141164.85 | H26: 627348.5 | I26: 627348.5 | J26: 613354.85 | K26: 127799.35
A27: 3 | B27: Pozostałe rezerwy | C27: 8700 | D27: =SUM(D28:D29) -> 0 | E27: =SUM(E28:E29) -> 0 | F27: =SUM(F28:F29) -> 0 | G27: =SUM(G28:G29) -> 13200 | H27: =SUM(H28:H29) -> 0 | I27: =SUM(I28:I29) -> 0 | J27: =SUM(J28:J29) -> 0 | K27: =SUM(K28:K29) -> 16000
B28: - długoterminowe | C28: 0 | D28: 0 | E28: 0 | F28: 0 | G28: 0 | H28: 0 | I28: 0 | J28: 0 | K28: 0
B29: - krótkoterminowe | C29: 8700 | D29: 0 | E29: 0 | F29: 0 | G29: 13200 | H29: 0 | I29: 0 | J29: 0 | K29: 16000
A30: II | B30: Zobowiązania długoterminowe | C30: 0 | D30: =SUM(D31:D33) -> 358438.36 | E30: =SUM(E31:E33) -> 368036.99 | F30: =SUM(F31:F33) -> 377741.1 | G30: =SUM(G31:G33) -> 0 | H30: =SUM(H31:H33) -> 1017994.5 | I30: =SUM(I31:I33) -> 1037939.7 | J30: =SUM(J31:J33) -> 1058104.1 | K30: =SUM(K31:K33) -> 63801.13 | S30: suma
A31: 1 | B31: Wobec jednostek powiązanych | C31: 0 | D31: 358438.36 | E31: 368036.99 | F31: 377741.1 | G31: 0 | H31: 1017994.5 | I31: 1037939.7 | J31: 1058104.1 | K31: 0 | L31: 241-1 | N31: =E31-D31 -> 9598.63 | O31: =H31-G31 -> 1017994.5 | P31: =I31-H31 -> 19945.2 | Q31: 250000 | R31: Gar | S31: =Q31+Q33+Q35 -> 1000000 | T31: =I31-G31 -> 1037939.7 | W31: =K31-G31 -> 0
A32: 2 | B32: Wobec pozostałych jednostek, w których jednostka posiada zaangażowanie w kapitale | C32: 0 | D32: 0 | E32: 0 | F32: 0 | G32: 0 | H32: 0 | I32: 0 | J32: 0 | K32: 0 | Q32: 9435.62 | R32: Ods | S32: =Q32+Q34+Q36 -> 37939.73
A33: 3 | B33: Wobec pozostałych jednostek | C33: 0 | D33: =SUM(D34:D38) -> 0 | E33: =SUM(E34:E38) -> 0 | F33: =SUM(F34:F38) -> 0 | G33: =SUM(G34:G38) -> 0 | H33: =SUM(H34:H38) -> 0 | I33: =SUM(I34:I38) -> 0 | J33: =SUM(J34:J38) -> 0 | K33: =SUM(K34:K38) -> 63801.13 | Q33: 450000 | R33: Para
A34: a | B34: kredyty i pożyczki | C34: 0 | D34: 0 | E34: 0 | F34: 0 | G34: 0 | H34: 0 | I34: 0 | J34: 0 | K34: 0 | Q34: 17304.11 | R34: Ods
A35: b | B35: z tytułu emisji dłużnych papierów wartościowych | C35: 0 | D35: 0 | E35: 0 | F35: 0 | G35: 0 | H35: 0 | I35: 0 | J35: 0 | K35: 0 | Q35: 300000 | R35: Pien
A36: c | B36: inne zobowiązania finansowe | C36: 0 | D36: 0 | E36: 0 | F36: 0 | G36: 0 | H36: 0 | I36: 0 | J36: 0 | K36: 63801.13 | Q36: 11200 | R36: Ods | W36: =K36-G36 -> 63801.13
A37: d | B37: zobowiązania wekslowe | C37: 0 | D37: 0 | E37: 0 | F37: 0 | G37: 0 | H37: 0 | I37: 0 | J37: 0 | K37: 0 | Q37: =SUM(Q31:Q36) -> 1037939.7
A38: e | B38: inne | C38: 0 | D38: 0 | E38: 0 | F38: 0 | G38: 0 | H38: 0 | I38: 0 | J38: 0 | K38: 0
A39: III | B39: Zobowiązania krótkoterminowe | C39: 1471029.3 | D39: =D40+D45+D50+D62 -> 1484710.3 | E39: =E40+E45+E50+E62 -> 1411878.1 | F39: =F40+F45+F50+F62 -> 1500638.7 | G39: =G40+G45+G50+G62 -> 2130951.9 | H39: =H40+H45+H50+H62 -> 2713023.9 | I39: =I40+I45+I50+I62 -> 2598251.1 | J39: =J40+J45+J50+J62 -> 2519765.6 | K39: =K40+K45+K50+K62 -> 3341818.4 | L39: =I39-G39 -> 467299.19 | M39: =F39-C39 -> 29609.36
A40: 1 | B40: Zobowiązania wobec jednostek powiązanych | C40: 0 | D40: =D41+D44 -> 0 | E40: =E41+E44 -> 0 | F40: =F41+F44 -> 0 | G40: =G41+G44 -> 121000 | H40: =H41+H44 -> 85857.01 | I40: =I41+I44 -> 85857.01 | J40: =J41+J44 -> 0 | K40: =K41+K44 -> 14760 | L40: =L39-T51 -> 78691.04 | M40: =M39-F53 -> 29609.36 | N40: =E40-D40 -> 0 | O40: =H40-G40 -> -35142.99 | P40: =I40-H40 -> 0 | T40: =I40-G40 -> -35142.99
A41: a | B41: z tytułu dostaw i usług, o okresie wymagalności: | C41: 0 | D41: =SUM(D42:D43) -> 0 | E41: =SUM(E42:E43) -> 0 | F41: =SUM(F42:F43) -> 0 | G41: =SUM(G42:G43) -> 0 | H41: =SUM(H42:H43) -> 0 | I41: =SUM(I42:I43) -> 0 | J41: =SUM(J42:J43) -> 0 | K41: =SUM(K42:K43) -> 14760 | M41: =E39-D39 -> -72832.2 | W41: =K41-G41 -> 14760
...

Sheet RZIS
A1: Meritoros S.A.
A2: ul. Krowoderska 63B/4
A3: 31-158 Kraków
A4: NIP: 6792963176
A6: Rachunek zysków i strat - wersja porównawcza
A7: Lp. | B7: Tytuł | R7: Mapowanie
C8: 01.01.2022-31.12.2022 | D8: 01.01.2023-31.03.2023 | E8: 01.04.2023-30.06.2023 | F8: 01.07.2023-30.09.2023 | G8: 01.10.2023-31.12.2023 | H8: 01.01.2023-30.06.2023 | I8: 01.01.2023-30.09.2023 | J8: 01.01.2023-31.12.2023 | K8: 01.01.2024-31.03.2024 | L8: 01.04.2024-30.06.2024 | M8: 01.07.2024-30.09.2024 | N8: 01.10.2024-31.12.2024 | O8: 01.01.2024-30.06.2024 | P8: 01.01.2024-30.09.2024 | Q8: 01.01.2024-31.12.2024
A9: A | B9: Przychody netto ze sprzedaży i zrównane z nimi, w tym: | C9: 10573796 | D9: =SUM(D11:D14) -> 4038987 | E9: 3474792.4 | F9: 10852555 | G9: 14508765 | H9: 7513779.4 | I9: =SUM(I11:I14) -> 10852555 | J9: =SUM(J11:J14) -> 14508765 | K9: 5324783.7 | L9: 4781743.2 | M9: =SUM(M11:M14) -> 4668458.5 | N9: =SUM(N11:N14) -> 4741299 | O9: 10106527 | P9: =P11 -> 14774985 | Q9: =Q11 -> 19516284
B10: - od jednostek powiązanych | D10: 10036.45 | E10: 31409 | F10: 72799.45 | G10: 310369.46 | H10: 41445.45 | I10: 72799.45 | J10: 310369.46 | K10: 9211 | L10: 63.8 | M10: 113787 | N10: 117961 | O10: 9274.8 | P10: 441001.8 | Q10: 558962.8
A11: I | B11: Przychody netto ze sprzedaży produktów | C11: 10573796 | D11: 4038987 | E11: 3474792.4 | F11: 10852555 | G11: 14508765 | H11: 7513779.4 | I11: 10852555 | J11: 14508765 | K11: 5324783.7 | L11: 4781743.2 | M11: 4668458.5 | N11: 4741299 | O11: 10106527 | P11: 14774985 | Q11: 19516284 | R11: 701-704 | S11: 762-5
A12: II | B12: Zmiana stanu produktów (zwiększenie - wartość dodatnia, zmniejszenie - wartość ujemna) | C12: 0 | D12: 0 | E12: 0 | F12: 0 | G12: 0 | H12: 0 | I12: 0 | J12: 0 | K12: 0 | L12: 0 | M12: 0 | N12: 0 | O12: 0 | P12: 0 | Q12: 0
A13: III | B13: Koszt wytworzenia produktów na własne potrzeby jednostki | C13: 0 | D13: 0 | E13: 0 | F13: 0 | G13: 0 | H13: 0 | I13: 0 | J13: 0 | K13: 0 | L13: 0 | M13: 0 | N13: 0 | O13: 0 | P13: 0 | Q13: 0
A14: IV | B14: Przychody netto ze sprzedaży towarów i materiałów | C14: 0 | D14: 0 | E14: 0 | F14: 0 | G14: 0 | H14: 0 | I14: 0 | J14: 0 | K14: 0 | L14: 0 | M14: 0 | N14: 0 | O14: 0 | P14: 0 | Q14: 0
A15: B | B15: Koszty działalności operacyjnej | C15: 10169656 | D15: =SUM(D16:D19,D21:D22,D24:D25) -> 3733860.6 | E15: =SUM(E16:E19,E21:E22,E24:E25) -> 3144117.5 | F15: =SUM(F16:F19,F21:F22,F24:F25) -> 10370294 | G15: =SUM(G16:G19,G21:G22,G24:G25) -> 14021710 | H15: =SUM(H16:H19,H21:H22,H24:H25) -> 6877978.1 | I15: =SUM(I16:I19,I21:I22,I24:I25) -> 10370294 | J15: =SUM(J16:J19,J21:J22,J24:J25) -> 14021710 | K15: =SUM(K16:K19,K21:K22,K24:K25) -> 5163620.3 | ... Q15: =SUM(Q16:Q19,Q21:Q22,Q24:Q25) -> 18875307
A16: I | B16: Amortyzacja | C16: 121171.73 | D16: 38341.42 | E16: 54835.59 | F16: 152063.81 | G16: 210629.37 | H16: 93177.01 | I16: 152063.81 | J16: 210629.37 | K16: 56847.84 | L16: 41279.06 | M16: 41703.65 | N16: 42368.03 | O16: 98126.9 | P16: 139781.32 | Q16: 183103.1 | R16: 400
A17: II | B17: Zużycie materiałów i energii | C17: 117093.16 | D17: 103783.61 | E17: 53546.68 | F17: 313499.06 | G17: 491112.99 | H17: 157330.29 | I17: 313499.06 | J17: 491112.99 | K17: 232827.89 | L17: 90837.98 | M17: 64949.78 | N17: 71943.98 | O17: 323665.87 | P17: 388615.65 | Q17: 460559.63 | R17: 401
A18: III | B18: Usługi obce | C18: 3912913.9 | D18: 1387189.8 | E18: 976145.81 | F18: 3443176.4 | G18: 4693992.8 | H18: 2363335.6 | I18: 3443176.4 | J18: 4693992.8 | K18: 1946788.8 | L18: 1594307.6 | M18: 1744193.7 | N18: 1453112.3 | O18: 3541189.3 | P18: 5287870.8 | Q18: 6740983.1 | R18: 402,
A19: IV | B19: Podatki i opłaty, w tym: | C19: 53614.05 | D19: 23318.97 | E19: 19803 | F19: 64740.97 | G19: 88136.97 | H19: 43121.97 | I19: 64740.97 | J19: 88136.97 | K19: 28040 | L19: 33597 | M19: 35685 | N19: 36576 | O19: 61637 | P19: 97322 | Q19: 134198 | R19: 403, 405-7
B20: - podatek akcyzowy | C20: 0 | D20: 0 | E20: 0 | F20: 0 | G20: 0 | H20: 0 | I20: 0 | J20: 0 | K20: 0 | L20: 0 | M20: 0 | N20: 0 | O20: 0 | P20: 0 | Q20: 0
A21: V | B21: Wynagrodzenia | C21: 5079869 | D21: 1868564.7 | E21: 1692776.9 | F21: 5394764.1 | G21: 7206641 | H21: 3561341.6 | I21: 5394764.1 | J21: 7206641 | K21: 2492331.9 | L21: 2433826.1 | M21: 2378121.2 | N21: 2334753.9 | O21: 4926158 | P21: 7298350.3 | Q21: 9638854.4 | R21: 404
A22: VI | B22: Ubezpieczenia społeczne i inne świadczenia, w tym: | C22: 853511.15 | D22: 297051.55 | E22: 336619.3 | F22: 958752.96 | G22: 1272778.2 | H22: 633670.85 | I22: 958752.96 | J22: 1272778.2 | K22: 393152.77 | L22: 415005.25 | M22: 423394.49 | N22: 443029.82 | O22: 808158.02 | P22: 1233121.4 | Q22: 1677744.8 | R22: 405 minus 405-7
B23: - emerytalne | C23: 388370.92 | D23: 0 | E23: 0 | F23: 0 | G23: 0 | H23: 0 | I23: 0 | J23: 0 | K23: 0 | L23: 360027.1 | M23: 369579.81 | N23: 383154.85 | O23: 699696.98 | P23: 1068234.6 | Q23: 1451389.4
A24: VII | B24: Pozostałe koszty rodzajowe | C24: 31483.28 | D24: 15610.45 | E24: 10390.27 | F24: 43296.71 | G24: 58418.64 | H24: 26000.72 | I24: 43296.71 | J24: 58418.64 | K24: 13631.07 | L24: 12619.68 | M24: 7854.87 | N24: 5757.96 | O24: 26250.75 | P24: 34105.62 | Q24: 39863.58 | R24: 406
A25: VIII | B25: Wartość sprzedanych towarów i materiałów | C25: 0 | D25: 0 | E25: 0 | F25: 0 | G25: 0 | H25: 0 | I25: 0 | J25: 0 | K25: 0 | L25: 0 | M25: 0 | N25: 0 | O25: 0 | P25: 0 | Q25: 0
A26: C | B26: Zysk (strata) ze sprzedaży (A-B) | C26: 404140 | D26: =D9-D15 -> 305126.44 | E26: 330674.88 | F26: 482261.05 | G26: 487054.88 | H26: 635801.32 | I26: =I9-I15 -> 482261.05 | J26: =J9-J15 -> 487054.88 | K26: 161163.36 | L26: 160270.55 | M26: =M9-M15 -> -27444.21 | N26: =N9-N15 -> 353757.09 | O26: =O9-O15 -> 321341.02 | P26: =P9-P15 -> 295818.21 | Q26: =Q9-Q15 -> 640977.71
A27: D | B27: Pozostałe przychody operacyjne | C27: 397800.13 | D27: =SUM(D28:D31) -> 69553.74 | E27: 86027.46 | F27: 427500.58 | G27: 417787.6 | H27: 155581.2 | I27: =SUM(I28:I31) -> 427500.58 | J27: =SUM(J28:J31) -> 417787.6 | K27: 128656.9 | L27: 154499.56 | M27: =SUM(M28:M31) -> 145165.94 | N27: =SUM(N28:N31) -> 237973.03 | O27: =SUM(O28:O31) -> 283156.46 | P27: =SUM(P28:P31) -> 428323.03 | Q27: =SUM(Q28:Q31) -> 735835.61
A28: I | B28: Zysk z tytułu rozchodu niefinansowych aktywów trwałych | C28: 43983.75 | D28: =0 -> 0 | E28: 0 | F28: 3741.7 | G28: 8324.19 | H28: 0 | I28: 3741.7 | J28: 8324.19 | K28: 0 | L28: 0 | M28: 0 | N28: 2703.24 | O28: 0 | P28: 0 | Q28: 2703.24 | R28: 762-1 minus 761-1
A29: II | B29: Dotacje | C29: 46709.92 | D29: 0 | E29: 0 | F29: 0 | G29: 0 | H29: 0 | I29: 0 | J29: 0 | K29: 0 | L29: 0 | M29: 59264 | N29: 62208 | O29: 0 | P29: 59264 | Q29: 121472 | R29: 762-2
A30: III | B30: Aktualizacja wartości aktywów niefinansowych | C30: 0 | D30: 45737.22 | E30: 53644.13 | F30: 166713.36 | G30: 269129.62 | H30: 99381.35 | I30: 166713.36 | J30: 269129.62 | K30: 104997.73 | L30: 113529.28 | M30: 62443.62 | N30: 126387.52 | O30: 218527.01 | P30: 280970.63 | Q30: 451126.27 | R30: 762-8, 762-9
A31: IV | B31: Inne przychody operacyjne | C31: 307106.46 | D31: 23816.52 | E31: 32383.33 | F31: 257045.52 | G31: 140333.79 | H31: 56199.85 | I31: 257045.52 | J31: 140333.79 | K31: 23659.17 | L31: 40970.28 | M31: 23458.32 | N31: 46674.27 | O31: 64629.45 | P31: 88088.4 | Q31: 160534.1 | R31: 762 minus 762-8, 762-9
A32: E | B32: Pozostałe koszty operacyjne | C32: 333383.33 | D32: =SUM(D33:D35) -> 76159.23 | E32: 129367.92 | F32: 342130.78 | G32: 424863.97 | H32: 205527.15 | I32: =SUM(I33:I35) -> 342130.78 | J32: =SUM(J33:J35) -> 424863.97 | K32: 226357.44 | L32: 325357.68 | M32: =SUM(M33:M35) -> 195618.54 | N32: =SUM(N33:N35) -> 216439.67 | O32: =SUM(O33:O35) -> 551715.12 | P32: =SUM(P33:P35) -> 747683.65 | Q32: =SUM(Q33:Q35) -> 964123.32
A33: I | B33: Strata z tyłułu rozchodu niefinansowych aktywów trwałych | C33: 0 | D33: 0 | E33: 0 | F33: 0 | G33: 0 | H33: 0 | I33: 0 | J33: 0 | K33: 0 | L33: 0 | M33: 0 | N33: 0 | O33: 0 | P33: 0 | Q33: 0 | R33: 761-1
A34: II | B34: Aktualizacja wartości aktywów niefinansowych | C34: 243764.33 | D34: 54094.48 | E34: 99655.16 | F34: 260893.24 | G34: 318438.72 | H34: 153749.64 | I34: 260893.24 | J34: 318438.72 | K34: 173584.2 | L34: 233662.5 | M34: 96947.47 | N34: 100826.55 | O34: 407246.7 | P34: 504194.17 | Q34: 605020.72 | R34: 761-5, 761-8
A35: III | B35: Inne koszty operacyjne | C35: 89619 | D35: 22064.75 | E35: 29712.76 | F35: 81237.54 | G35: 106425.25 | H35: 51777.51 | I35: 81237.54 | J35: 106425.25 | K35: 52773.24 | L35: 91695.18 | M35: 98671.07 | N35: 115613.12 | O35: 144468.42 | P35: 243489.48 | Q35: 359102.6 | R35: 761 minus 761-1, 761-5, 761-8
A36: F | B36: Zysk (strata) z działalności operacyjnej (C+D-E) | C36: 468556.8 | D36: =D26+D27-D32 -> 298520.95 | E36: 287334.42 | F36: 567630.85 | G36: 479978.51 | H36: 585855.37 | I36: =I26+I27-I32 -> 567630.85 | J36: =J26+J27-J32 -> 479978.51 | K36: 63462.82 | L36: -10587.57 | M36: =M26+M27-M32 -> -77896.81 | N36: =N26+N27-N32 -> 375290.45 | O36: =O26+O27-O32 -> 52782.36 | P36: =P26+P27-P32 -> -23542.41 | Q36: =Q26+Q27-Q32 -> 412690
A37: G | B37: Przychody finansowe | C37: 99472.74 | D37: =SUM(D38,D43,D45,D47:D47) -> 31337.83 | E37: 27698.1 | F37: 62898.71 | G37: 64748.88 | H37: 59035.93 | I37: =SUM(I38,I43,I45,I47:I47) -> 62898.71 | J37: =SUM(J38,J43,J45,J47:J48) -> 64748.88 | K37: 2761.87 | L37: 24883.92 | M37: =SUM(M38,M43,M45,M47:M48) -> 90094.02 | N37: =SUM(N38,N43,N45,N47:N48) -> 8657.83 | O37: 7902.59 | P37: =P38+P43+P45 -> 97996.61 | Q37: =Q38+Q43+Q45 -> 106654.44
A38: I | B38: Dywidendy i udziały w zyskach, w tym: | C38: 16261.65 | D38: 0 | E38: 0 | F38: 0 | G38: 0 | H38: 0 | I38: 0 | J38: =J39+J41 -> 0 | K38: 0 | L38: 0 | M38: =M39+M41 -> 85857.01 | N38: =N39+N41 -> 0 | O38: 0 | P38: 85857.01 | Q38: 85857.01
A39: a | B39: od jednostek powiązanych, w tym: | C39: 0 | D39: 0 | E39: 0 | F39: 0 | G39: 0 | H39: 0 | I39: 0 | J39: 0 | K39: 0 | L39: 0 | M39: 85857.01 | N39: 0 | O39: 0 | P39: 85857.01 | Q39: 85857.01
B40: - w których jednostka posiada zaangażowanie w kapitale | C40: 0 | D40: 0 | E40: 0 | F40: 0 | G40: 0 | H40: 0 | I40: 0 | J40: 0 | K40: 0 | L40: 0 | M40: 85857.01 | N40: 0 | O40: 0 | P40: 85857.01 | Q40: 85857.01
A41: b | B41: od jednostek pozostałych, w tym: | C41: 16261.65 | D41: 0 | E41: 0 | F41: 0 | G41: 0 | H41: 0 | I41: 0 | J41: 0 | K41: 0 | L41: 0 | M41: 0 | N41: 0 | O41: 0 | P41: 0 | Q41: 0 | R41: 752-1
...

Sheet ZZwKW
A1: Zestawienie zmian w kapitale (funduszu) własnym
A2: Lp. | B2: Tytuł | C2: 01.01.2023-31.03.2023 | D2: 01.04.2023-30.06.2023 | E2: 01.07.2023-30.09.2023 | F2: 01.10.2023-31.12.2023 | G2: 01.01.2023-30.06.2023 | H2: 01.01.2023-30.09.2023 | I2: 01.01.2023-31.12.2023 | J2: 01.01.2024-31.03.2024 | K2: 01.04.2024-30.06.2024 | L2: 01.07.2024-30.09.2024 | M2: 01.10.2024-31.12.2024 | N2: 01.01.2024-30.06.2024 | O2: 01.01.2024-30.09.2024 | P2: 01.01.2024-31.12.2024
A3: I. | B3: Kapitał (fundusz) własny na początek okresu (BO) | C3: =C7+C16+C29+C37+C44 -> 1040229.4 | D3: =D7+D16+D29+D37+D44 -> 1040229.4 | E3: =E7+E16+E29+E37+E44 -> 1040229.4 | F3: =F7+F16+F29+F37+F44 -> 1040229.4 | G3: =G7+G16+G29+G37+G44 -> 1040229.4 | H3: =H7+H16+H29+H37+H44 -> 1040229.4 | I3: =I7+I16+I29+I37+I44 -> 1040229.4 | J3: =J7+J16+J29+J37+J44 -> 1195892.2 | ... P3: =P7+P16+P29+P37+P44 -> 1195892.2
B4: - zmiany przyjętych zasad (polityki) rachunkowości | C4: =C46+C57 -> 0 | D4: =D46+D57 -> 0 | E4: =E46+E57 -> 0 | F4: =F46+F57 -> 0 | G4: =G46+G57 -> 0 | H4: =H46+H57 -> 0 | I4: =I46+I57 -> 0 | J4: =J46+J57 -> 0 | ... P4: =P46+P57 -> 0
B5: - korekty błędów | C5: =C47+C58 -> 0 | D5: =D47+D58 -> 0 | E5: =E47+E58 -> 0 | F5: =F47+F58 -> 0 | G5: =G47+G58 -> 0 | H5: =H47+H58 -> 0 | I5: =I47+I58 -> 0 | J5: =J47+J58 -> 0 | ... P5: =P47+P58 -> 0
A6: I.a. | B6: Kapitał (fundusz) własny na początek okresu (BO), po korektach | C6: =C7+C16+C29+C37+C48+C59 -> 1040229.4 | D6: =D7+D16+D29+D37+D48+D59 -> 1040229.4 | E6: =E7+E16+E29+E37+E48+E59 -> 1040229.4 | F6: =F7+F16+F29+F37+F48+F59 -> 1040229.4 | G6: =G7+G16+G29+G37+G48+G59 -> 1040229.4 | H6: =H7+H16+H29+H37+H48+H59 -> 1040229.4 | I6: =I7+I16+I29+I37+I48+I59 -> 1040229.4 | J6: =J7+J16+J29+J37+J48+J59 -> 1195892.2 | ... P6: =P7+P16+P29+P37+P48+P59 -> 1195892.2
A7: 1 | B7: Kapitał (fundusz) podstawowy na początek okresu | C7: 120000 | D7: 120000 | E7: 120000 | F7: 120000 | G7: 120000 | H7: 120000 | I7: 120000 | J7: 120000 | K7: 120000 | L7: 120000 | M7: 120000 | N7: 120000 | O7: 120000 | P7: 120000
A8: 1.1. | B8: Zmiany kapitału (funduszu) podstawowego | C8: =C9-C12 -> 0 | D8: =D9-D12 -> 0 | E8: =E9-E12 -> 0 | F8: =F9-F12 -> 0 | G8: =G9-G12 -> 0 | H8: =H9-H12 -> 0 | I8: =I9-I12 -> 0 | J8: =J9-J12 -> 0 | ... P8: =P9-P12 -> 0
A9: a | B9: zwiększenie (z tytułu) | C9: =SUM(C10:C11) -> 0 | D9: =SUM(D10:D11) -> 0 | E9: =SUM(E10:E11) -> 0 | F9: =SUM(F10:F11) -> 0 | G9: =SUM(G10:G11) -> 0 | H9: =SUM(H10:H11) -> 0 | I9: =SUM(I10:I11) -> 0 | J9: =SUM(J10:J11) -> 0 | ... P9: =SUM(P10:P11) -> 0
B10: - wydania udziałów (emisji akcji) | C10: 0 | D10: 0 | E10: 0 | F10: 0 | G10: 0 | H10: 0 | I10: 0 | J10: 0 | K10: 0 | L10: 0 | M10: 0 | N10: 0 | O10: 0 | P10: 0
B11: - podniesienie z kapitału zapasowego | C11: 0 | D11: 0 | E11: 0 | F11: 0 | G11: 0 | H11: 0 | I11: 0 | J11: 0 | K11: 0 | L11: 0 | M11: 0 | N11: 0 | O11: 0 | P11: =Pasywa!G10-Pasywa!C10 -> 0
A12: b | B12: zmniejszenie (z tytułu) | C12: =SUM(C13:C14) -> 0 | D12: =SUM(D13:D14) -> 0 | E12: =SUM(E13:E14) -> 0 | F12: =SUM(F13:F14) -> 0 | G12: =SUM(G13:G14) -> 0 | H12: =SUM(H13:H14) -> 0 | I12: =SUM(I13:I14) -> 0 | J12: =SUM(J13:J14) -> 0 | ... P12: =SUM(P13:P14) -> 0
B13: - umorzenie udziałów (akcji) | C13: 0 | D13: 0 | E13: 0 | F13: 0 | G13: 0 | H13: 0 | I13: 0 | J13: 0 | K13: 0 | L13: 0 | M13: 0 | N13: 0 | O13: 0 | P13: 0
B14: - ...... | C14: 0 | D14: 0 | E14: 0 | F14: 0 | G14: 0 | H14: 0 | I14: 0 | J14: 0 | K14: 0 | L14: 0 | M14: 0 | N14: 0 | O14: 0 | P14: 0
A15: 1.2. | B15: Kapitał (fundusz) podstawowy na koniec okresu | C15: =SUM(C7:C8) -> 120000 | D15: =SUM(D7:D8) -> 120000 | E15: =SUM(E7:E8) -> 120000 | F15: =SUM(F7:F8) -> 120000 | G15: =SUM(G7:G8) -> 120000 | H15: =SUM(H7:H8) -> 120000 | I15: =SUM(I7:I8) -> 120000 | J15: =SUM(J7:J8) -> 120000 | ... P15: =SUM(P7:P8) -> 120000
A16: 2 | B16: Kapitał (fundusz) zapasowy na początek okresu | C16: 397531.17 | D16: 397531.17 | E16: 397531.17 | F16: 632229.4 | G16: 397531.17 | H16: 397531.17 | I16: 397531.17 | J16: 632229.4 | K16: 632229.4 | L16: 632229.4 | M16: 632229.4 | N16: 632229.4 | O16: 632229.4 | P16: 1075892.2
A17: 2.1. | B17: Zmiany kapitału (funduszu) zapasowego | C17: =(C18-C23) -> 0 | D17: =(D18-D23) -> 0 | E17: =(E18-E23) -> 234698.23 | F17: =(F18-F23) -> 0 | G17: =(G18-G23) -> 0 | H17: =(H18-H23) -> 234698.23 | I17: =(I18-I23) -> 234698.23 | J17: =(J18-J23) -> 0 | ... P17: =(P18-P23) -> 0
A18: a | B18: zwiększenie (z tytułu) | C18: =SUM(C19:C22) -> 0 | D18: =SUM(D19:D22) -> 0 | E18: =SUM(E19:E22) -> 234698.23 | F18: =SUM(F19:F22) -> 0 | G18: =SUM(G19:G22) -> 0 | H18: =SUM(H19:H22) -> 234698.23 | I18: =SUM(I19:I22) -> 234698.23 | J18: =SUM(J19:J22) -> 0 | ... P18: =SUM(P19:P22) -> 0
B19: - emisji akcji powyżej wartości nominalnej | C19: 0 | D19: 0 | E19: 0 | F19: 0 | G19: 0 | H19: 0 | I19: 0 | J19: 0 | K19: 0 | L19: 0 | M19: 0 | N19: 0 | O19: 0 | P19: 0
B20: - podziału zysku (ustawowo) | C20: 0 | D20: 0 | E20: 0 | F20: 0 | G20: 0 | H20: 0 | I20: 0 | J20: 0 | K20: 0 | L20: 0 | M20: 0 | N20: 0 | O20: 0 | P20: 0
B21: - podziału zysku (ponad wymaganą ustawowo minimalną wartość) | C21: 0 | D21: 0 | E21: 0 | F21: 0 | G21: 0 | H21: 0 | I21: 0 | J21: 0 | K21: 0 | L21: 0 | M21: 0 | N21: 0 | O21: 0 | P21: 0
B22: - podział zysku zgodnie z uchwałą zgromadzenia wspólników | C22: 0 | D22: 0 | E22: 234698.23 | F22: 0 | G22: 0 | H22: 234698.23 | I22: 234698.23 | J22: 0 | K22: 0 | L22: 0 | M22: 0 | N22: 0 | O22: 0 | P22: 0
A23: b | B23: zmniejszenie (z tytułu) | C23: =SUM(C24:C27) -> 0 | D23: =SUM(D24:D27) -> 0 | E23: =SUM(E24:E27) -> 0 | F23: =SUM(F24:F27) -> 0 | G23: =SUM(G24:G27) -> 0 | H23: =SUM(H24:H27) -> 0 | I23: =SUM(I24:I27) -> 0 | J23: =SUM(J24:J27) -> 0 | ... P23: =SUM(P24:P27) -> 0
B24: - pokrycia straty | C24: 0 | D24: 0 | E24: 0 | F24: 0 | G24: 0 | H24: 0 | I24: 0 | J24: 0 | K24: 0 | L24: 0 | M24: 0 | N24: 0 | O24: 0 | P24: 0
B25: - wypłaty dywidendy | C25: 0 | D25: 0 | E25: 0 | F25: 0 | G25: 0 | H25: 0 | I25: 0 | J25: 0 | K25: 0 | L25: 0 | M25: 0 | N25: 0 | O25: 0 | P25: 0
B26: - podniesienie kapitału zakładowego | C26: 0 | D26: 0 | E26: 0 | F26: 0 | G26: 0 | H26: 0 | I26: 0 | J26: 0 | K26: 0 | L26: 0 | M26: 0 | N26: 0 | O26: 0 | P26: 0
B27: - zryczałtowany podatek dochodowy od podniesienia kapitału zakładowego | C27: 0 | D27: 0 | E27: 0 | F27: 0 | G27: 0 | H27: 0 | I27: 0 | J27: 0 | K27: 0 | L27: 0 | M27: 0 | N27: 0 | O27: 0 | P27: 0
A28: 2.2. | B28: Stan kapitału (funduszu) zapasowego na koniec okresu | C28: =SUM(C16:C17) -> 397531.17 | D28: =SUM(D16:D17) -> 397531.17 | E28: =SUM(E16:E17) -> 632229.4 | F28: =SUM(F16:F17) -> 632229.4 | G28: =SUM(G16:G17) -> 397531.17 | H28: =SUM(H16:H17) -> 632229.4 | I28: =SUM(I16:I17) -> 632229.4 | J28: =SUM(J16:J17) -> 632229.4 | ... P28: =SUM(P16:P17) -> 1075892.2
A29: 3 | B29: Kapitał (fundusz) z aktualizacji wyceny na początek okresu - zmiany przyjętych zasad (polityki) rachunkowości | C29: =D36 -> 0 | D29: =E36 -> 0 | E29: =F36 -> 0 | F29: =G36 -> 0 | G29: =H36 -> 0 | H29: =I36 -> 0 | I29: =J36 -> 0 | J29: =K36 -> 0 | ... M29: =N36 -> 0 | N29: =P36 -> 0 | O29: =P36 -> 0 | P29: 0
A30: 3.1. | B30: Zmiany kapitału (funduszu) z aktualizacji wyceny | C30: =C31-C33 -> 0 | D30: =D31-D33 -> 0 | E30: =E31-E33 -> 0 | F30: =F31-F33 -> 0 | G30: =G31-G33 -> 0 | H30: =H31-H33 -> 0 | I30: =I31-I33 -> 0 | J30: =J31-J33 -> 0 | ... P30: =P31-P33 -> 0
A31: a | B31: zwiększenie (z tytułu) | C31: =SUM(C32:C32) -> 0 | D31: =SUM(D32:D32) -> 0 | E31: =SUM(E32:E32) -> 0 | F31: =SUM(F32:F32) -> 0 | G31: =SUM(G32:G32) -> 0 | H31: =SUM(H32:H32) -> 0 | I31: =SUM(I32:I32) -> 0 | J31: =SUM(J32:J32) -> 0 | ... P31: =SUM(P32:P32) -> 0
B32: - ....... | C32: 0 | D32: 0 | E32: 0 | F32: 0 | G32: 0 | H32: 0 | I32: 0 | J32: 0 | K32: 0 | L32: 0 | M32: 0 | N32: 0 | O32: 0 | P32: 0
A33: b | B33: zmniejszenie (z tytułu) | C33: =SUM(C34:C35) -> 0 | D33: =SUM(D34:D35) -> 0 | E33: =SUM(E34:E35) -> 0 | F33: =SUM(F34:F35) -> 0 | G33: =SUM(G34:G35) -> 0 | H33: =SUM(H34:H35) -> 0 | I33: =SUM(I34:I35) -> 0 | J33: =SUM(J34:J35) -> 0 | ... P33: =SUM(P34:P35) -> 0
B34: - zbycia środków trwałych | C34: 0 | D34: 0 | E34: 0 | F34: 0 | G34: 0 | H34: 0 | I34: 0 | J34: 0 | K34: 0 | L34: 0 | M34: 0 | N34: 0 | O34: 0 | P34: 0
B35: - ........ | C35: 0 | D35: 0 | E35: 0 | F35: 0 | G35: 0 | H35: 0 | I35: 0 | J35: 0 | K35: 0 | L35: 0 | M35: 0 | N35: 0 | O35: 0 | P35: 0
A36: 3.2. | B36: Kapitał (fundusz) z aktualizacji wyceny na koniec okresu | C36: 0 | D36: 0 | E36: 0 | F36: 0 | G36: 0 | H36: 0 | I36: 0 | J36: 0 | K36: 0 | L36: 0 | M36: 0 | N36: 0 | O36: 0 | P36: 0
A37: 4 | B37: Pozostałe kapitały (fundusze) rezerwowe na początek okresu | C37: =D43 -> 0 | D37: =E43 -> 0 | E37: =F43 -> 0 | F37: =G43 -> 0 | G37: =H43 -> 0 | H37: =I43 -> 0 | I37: =J43 -> 0 | J37: =K43 -> 0 | K37: =L43 -> 0 | L37: 0 | M37: 0 | N37: 0 | O37: 0 | P37: 0
A38: 4.1. | B38: Zmiany pozostałych kapitałów (funduszy) rezerwowych | C38: =C39-C41 -> 0 | D38: =D39-D41 -> 0 | E38: =E39-E41 -> 0 | F38: =F39-F41 -> 0 | G38: =G39-G41 -> 0 | H38: =H39-H41 -> 0 | I38: =I39-I41 -> 0 | J38: =J39-J41 -> 0 | ... P38: =P39-P41 -> 0
A39: a | B39: zwiększenie (z tytułu) | C39: =SUM(C40:C40) -> 0 | D39: =SUM(D40:D40) -> 0 | E39: =SUM(E40:E40) -> 0 | F39: =SUM(F40:F40) -> 0 | G39: =SUM(G40:G40) -> 0 | H39: =SUM(H40:H40) -> 0 | I39: =SUM(I40:I40) -> 0 | J39: =SUM(J40:J40) -> 0 | ... P39: =SUM(P40:P40) -> 0
B40: - ........ | C40: 0 | D40: 0 | E40: 0 | F40: 0 | G40: 0 | H40: 0 | I40: 0 | J40: 0 | K40: 0 | L40: 0 | M40: 0 | N40: 0 | O40: 0 | P40: 0
...

Sheet RPP
A1: Rachunek przepływów pieniężnych
A2: metoda pośrednia
A3: Lp. | B3: Tytuł | C3: 01.01.2022-31.12.2022 | D3: 01.01.2023-31.03.2023 | E3: 01.01.2023-30.06.2023 | F3: JAKI TO OKRES?? | G3: 01.01.2023-30.09.2023 | H3: 01.01.2023-31.12.2023 | I3: 01.01.2024-31.03.2024 | J3: 01.01.2024-30.06.2024 | L3: 01.04-30.06 | M3: 01.01.2024-30.09.2024 | N3: 01.01.2024-31.12.2024 | Q3: Q1 2023 | T3: Q2 | U3: Q3 | V3: Q4
A4: A | B4: Przepływy środków pieniężnych z działalności operacyjnej | C4: 0 | D4: 0 | E4: 0 | G4: 0 | H4: 0 | I4: 0 | J4: 0 | M4: 0 | N4: 0 | Q4: sprzedaż papierów | R4: 386156.56 | S4: 752-7 | T4: 611429.01 | U4: 611429.01 | V4: 611429.01
A5: I | B5: Zysk (strata) netto | C5: =Pasywa!C19 -> 522698.23 | D5: =Pasywa!D19 -> 443662.78 | E5: =Pasywa!E19 -> 591537.55 | F5: =E5-D5 -> 147874.77 | G5: =Pasywa!F19 -> 460219.07 | H5: =Pasywa!G19 -> 443662.78 | I5: =Pasywa!H19 -> -25219.97 | J5: =Pasywa!I19 -> -58231.69 | K5: =J5-I5 -> -33011.72 | L5: -33011.72 | M5: =Pasywa!J19 -> -95921.18 | N5: =Pasywa!K19 -> 398081.12 | Q5: wartość sprzedanych papierów | R5: 356131.75 | S5: 751-6 | T5: 556078.56 | U5: 556078.56 | V5: 556078.56
A6: II | B6: Korekty razem | C6: =SUM(C7:C16) -> -73938.03 | D6: =SUM(D7:D16) -> 282010.61 | E6: =SUM(E7:E16) -> 100465.44 | F6: =E6-D6 -> -181545.17 | G6: =SUM(G7:G16) -> 241692.7 | H6: =SUM(H7:H16) -> 121791.03 | I6: =SUM(I7:I16) -> -59126.13 | J6: =SUM(J7:J16) -> 380484.19 | K6: =J6-I6 -> 439610.32 | L6: =SUM(L7:L16) -> 412786.78 | M6: =SUM(M7:M16) -> 526171.48 | N6: =SUM(N7:N16) -> 147539.69 | Q6: inne koszty | R6: 0
A7: 1 | B7: Amortyzacja | C7: =RZIS!C16 -> 121171.73 | D7: =RZIS!G16 -> 210629.37 | E7: =RZIS!H16 -> 93177.01 | F7: =E7-D7 -> -117452.36 | G7: =RZIS!I16 -> 152063.81 | H7: =RZIS!J16 -> 210629.37 | I7: =-(Aktywa!AD11+Aktywa!AD19) -> 51404.55 | J7: =RZIS!O16+97613+1239.84 -> 196979.74 | K7: =J7-I7 -> 145575.19 | L7: =41297.06+Q20+1239.84 -> 115746.65 | M7: =RZIS!P16 -> 139781.32 | N7: =RZIS!Q16+-Aktywa!AM12 -> 427135.58 | O7: 400 +761-9-6+649 leasing | Q7: różnica | R7: =R4-R5-R6 -> 30024.81 | T7: =T4-T5 -> 55350.45 | U7: =U4-U5 -> 55350.45 | V7: =V4-V5 -> 55350.45
A8: 2 | B8: Zyski (straty) z tytułu różnic kursowych | C8: 0 | D8: 0 | E8: 0 | F8: =E8-D8 -> 0 | G8: 0 | H8: 0 | I8: 0 | J8: 0 | K8: =J8-I8 -> 0 | L8: 0 | M8: 0 | N8: 0
A9: 3 | B9: Odsetki i udziały w zyskach (dywidendy) | C9: =-(16261.65+3948.77) -> -20210.42 | D9: 0 | E9: 0 | F9: =E9-D9 -> 0 | G9: 0 | H9: =-121000+H60-315.62 -> -84186.85 | I9: 21250.47 | J9: =-(Aktywa!Q82+Aktywa!Q87)+Pasywa!Q32+Pasywa!Q34+Pasywa!Q36+Pasywa!Q54+S15+S16+S17 -> 47592.86 | K9: =J9-I9 -> 26342.39 | L9: =-(T28+T29)+T22+T23+T24+325.97+6784.16+U17 -> 29347.39 | M9: 0 | N9: =Pasywa!AA44-Aktywa!AM83-Aktywa!AM84+Pasywa!AA65+Pasywa!AA52+Pasywa!AA59+S34+S35 -> 12073.89 | O9: 752-1, 752-2
A10: 4 | B10: Zysk (strata) z działalności inwestycyjnej | C10: -105898.93 | D10: =-R7 -> -30024.81 | E10: =-T7 -> -55350.45 | F10: =E10-D10 -> -25325.64 | G10: =-U7-(G20+Aktywa!V15+Aktywa!V14)+90222.93 -> 31130.78 | H10: =-V7-(H20+Aktywa!W15+Aktywa!W14)+T10 -> -12271.51 | I10: =-W7-(I20+Aktywa!AD15+Aktywa!AD14)+T11 -> 53760.2 | J10: =-Aktywa!P84 -> 34017 | K10: =J10-I10 -> -19743.2 | L10: =-Aktywa!O84 -> -19743.2 | M10: =-Y7-(M20+Aktywa!AF15+Aktywa!AF14)+V11 -> 0 | N10: =-Aktywa!AG83-N20 -> 61595.56 | Q10: odpisy aktualizujące krótkoterm. Aktywa finansowe q42023 | T10: 51403.53
A11: 5 | B11: Zmiana stanu rezerw | C11: 19856.73 | D11: =Pasywa!D22-Pasywa!C22 -> 494893.95 | E11: =Pasywa!E22-Pasywa!C22 -> 466473 | F11: =E11-D11 -> -28420.95 | G11: =Pasywa!F22-Pasywa!C22 -> 466473 | H11: =Pasywa!G22-Pasywa!C22 -> 15995.05 | I11: =Pasywa!H22-Pasywa!G22 -> 472983.65 | J11: =Pasywa!I22-Pasywa!G22 -> 472983.65 | K11: =J11-I11 -> 0 | L11: =Pasywa!I22-Pasywa!H22 -> 0 | M11: =Pasywa!J22-Pasywa!G22 -> 458990 | N11: =Pasywa!K22-Pasywa!G22 -> 2529.26 | Q11: odpisy aktualizujące krótkoterm. Aktywa finansowe q12024 | T11: 53760.2
A12: 6 | B12: Zmiana stanu zapasów | C12: -442.91 | D12: =-(Aktywa!D52-Aktywa!C52) -> 2215.36 | E12: =-(Aktywa!E52-Aktywa!C52) -> -817.18 | F12: =E12-D12 -> -3032.54 | G12: =-(Aktywa!F52-Aktywa!C52) -> -27244.77 | H12: =-(Aktywa!G52-Aktywa!C52) -> -3144.46 | I12: =-(Aktywa!H52-Aktywa!G52) -> 5427.9 | J12: =-(Aktywa!I52-Aktywa!G52) -> 5427.9 | K12: =J12-I12 -> 0 | L12: =Aktywa!O52 -> 0 | M12: =-(Aktywa!J52-Aktywa!G52) -> 5651.94 | N12: =-(Aktywa!K52-Aktywa!G52) -> -8606.18 | Q12: odpisy aktualizujące krótkoterm. Aktywa finansowe q22024 | T12: 85420.53
A13: 7 | B13: Zmiana stanu należności | C13: -438371.97 | D13: =-(Aktywa!D58-Aktywa!C58)-(Aktywa!D24-Aktywa!C24) -> -407086.54 | E13: =-(Aktywa!E58-Aktywa!C58)-(Aktywa!E24-Aktywa!C24) -> -351852.2 | F13: =E13-D13 -> 55234.34 | G13: =-(Aktywa!F58-Aktywa!C58)-(Aktywa!F24-Aktywa!C24) -> -398867.53 | H13: =-(Aktywa!G58-Aktywa!C58)-(Aktywa!G24-Aktywa!C24) -> -574243.65 | I13: =-(Aktywa!H58-Aktywa!G58)-(Aktywa!H24-Aktywa!G24) -> -604019.88 | J13: =-(Aktywa!I58-Aktywa!G58)-(Aktywa!I24-Aktywa!G24) -> -260077.92 | K13: =J13-I13 -> 343941.96 | L13: =-(Aktywa!I58-Aktywa!H58)-(Aktywa!I24-Aktywa!H24) -> 343941.96 | M13: =-(Aktywa!J58-Aktywa!G58)-(Aktywa!J24-Aktywa!G24) -> -439395.69 | N13: =-(Aktywa!K58-Aktywa!G58)-(Aktywa!K24-Aktywa!G24) -> -350461.24
A14: 8 | B14: Zmiana stanu zobowiązań krótkoterminowych, z wyjątkiem pożyczek i kredytów | C14: 304904.74 | D14: =Pasywa!D39-Pasywa!C39 -> 13680.97 | E14: =Pasywa!E39-Pasywa!C39 -> -59151.23 | F14: =E14-D14 -> -72832.2 | G14: =Pasywa!F39-Pasywa!C39 -> 29609.36 | H14: =Pasywa!G39-Pasywa!C39 -> 659922.62 | I14: =Pasywa!O40+Pasywa!O54+Pasywa!O59+Pasywa!O60+Pasywa!O61+Pasywa!O62 -> 72373.77 | J14: =Pasywa!T40+Pasywa!T54+Pasywa!T59+Pasywa!T60+Pasywa!T61+Pasywa!T62 -> -47608.32 | K14: =J14+I14 -> 24765.45 | L14: =Pasywa!P40+Pasywa!P54+Pasywa!P59+Pasywa!P60+Pasywa!P61+Pasywa!P62 -> -119982.09 | M14: =Pasywa!J39-Pasywa!G39 -> 388813.73 | N14: =Pasywa!K39-Pasywa!G39-Pasywa!W51-Pasywa!W44+Pasywa!K53-Pasywa!G53+Pasywa!AA45+Pasywa!K36-Pasywa!G36 -> 234715.74 | S14: Q1i2 | U14: Q2
A15: 9 | B15: Zmiana stanu rozliczeń międzyokresowych | C15: 45053 | D15: =-(Aktywa!D48+Aktywa!D93-Aktywa!C48-Aktywa!C93)+Pasywa!D63-Pasywa!C63 -> -2297.69 | E15: =-(Aktywa!E48+Aktywa!E93-Aktywa!C48-Aktywa!C93)+Pasywa!E63-Pasywa!C63 -> 7986.49 | F15: =E15-D15 -> 10284.18 | G15: =-(Aktywa!F48+Aktywa!F93-Aktywa!C48-Aktywa!C93)+Pasywa!F63-Pasywa!C63 -> -11471.95 | H15: =-(Aktywa!G48+Aktywa!G93-Aktywa!C48-Aktywa!C93)+Pasywa!G63-Pasywa!C63 -> -90909.54 | I15: =-(Aktywa!H48+Aktywa!H93-Aktywa!G48-Aktywa!G93)+(Pasywa!H63-Pasywa!G63) -> -132306.79 | J15: =-(Aktywa!I48+Aktywa!I93-Aktywa!G48-Aktywa!G93)+(Pasywa!I63-Pasywa!G63) -> -68830.72 | K15: =J15-I15 -> 63476.07 | L15: =-(Aktywa!I48+Aktywa!I93-Aktywa!H48-Aktywa!H93)+(Pasywa!I63-Pasywa!H63) -> 63476.07 | M15: =-(Aktywa!J48+Aktywa!J93-Aktywa!G48-Aktywa!G93)+Pasywa!J63-Pasywa!G63 -> -27669.82 | N15: =-(Aktywa!K48+Aktywa!K93-Aktywa!G48-Aktywa!G93)+Pasywa!K63-Pasywa!G63 -> -231442.92 | R15: odsetki zapłacone | S15: 7930.51 | T15: 751-1-2 | U15: 6784.16
A16: 10 | B16: Inne korekty | C16: 0 | D16: 0 | E16: 0 | F16: =E16-D16 -> 0 | G16: 0 | H16: 0 | I16: 0 | J16: 0 | K16: =J16-I16 -> 0 | L16: 0 | M16: 0 | N16: 0 | R16: ods od leasingu | S16: 696.31 | T16: 751-1-3 | U16: 325.97
A17: III | B17: Przepływy pieniężne netto z działalności operacyjnej (I ± II) | C17: =C5+C6 -> 448760.2 | D17: =D5+D6 -> 725673.39 | E17: =E5+E6 -> 692002.99 | F17: =E17-D17 -> -33670.4 | G17: =G5+G6 -> 701911.77 | H17: =H5+H6 -> 565453.81 | I17: =I5+I6 -> -84346.1 | J17: =J5+J6 -> 322252.5 | K17: =J17-I17 -> 406598.6 | L17: =L5+L6 -> 379775.06 | M17: =M5+M6 -> 430250.3 | N17: =N5+N6 -> 545620.81 | R17: odsetki zapłacone pożyczki | S17: 5742.47 | T17: 751-1-2 | U17: 5742.47
A18: B | B18: Przepływy środków pieniężnych z działalności inwestycyjnej | C18: 0 | D18: 0 | E18: 0 | F18: =E18-D18 -> 0 | G18: 0 | H18: 0 | I18: 0 | J18: 0 | K18: =J18-I18 -> 0 | L18: 0 | M18: 0 | N18: 0
A19: I | B19: Wpływy | C19: =SUM(C20:C22)+C32 -> 234576.79 | D19: =SUM(D20:D22)+D32 -> 386156.56 | E19: =SUM(E20:E22)+E32 -> 611429.01 | F19: =E19-D19 -> 225272.45 | G19: =SUM(G20:G22)+G32 -> 632884.3 | H19: =SUM(H20:H22)+H32 -> 762038.76 | I19: =SUM(I20:I22)+I32 -> 0 | J19: =SUM(J20:J22)+J32 -> 0 | K19: =J19-I19 -> 0 | L19: =SUM(L20:L22)+L32 -> 0 | M19: =SUM(M20:M22)+M32 -> 0 | N19: =SUM(N20:N22)+N32 -> 143462.69 | O19: 752-7 | Q19: =24403.25*4 -> 97613 | R19: ZCP
A20: 1 | B20: Zbycie wartości niematerialnych i prawnych oraz rzeczowych aktywów trwałych | C20: 43983.75 | D20: 0 | E20: 0 | F20: =E20-D20 -> 0 | G20: 4455.29 | H20: 12609.75 | I20: 0 | J20: 0 | K20: =J20-I20 -> 0 | L20: 0 | M20: 0 | N20: 2703.24 | O20: 762-1 | Q20: =24403.25*3 -> 73209.75
A21: 2 | B21: Zbycie inwestycji w nieruchomości oraz wartości niematerialne i prawne | C21: 0 | D21: 0 | E21: 0 | F21: =E21-D21 -> 0 | G21: 0 | H21: 0 | I21: 0 | J21: 0 | K21: =J21-I21 -> 0 | L21: 0 | M21: 0 | N21: 0 | Q21: pożyczki otrzymane | S21: odsetki Q1 | T21: Q2
A22: 3 | B22: Z aktywów finansowych, w tym: | C22: 90593.04 | D22: =D23+D24 -> 386156.56 | E22: =E23+E24 -> 611429.01 | F22: =E22-D22 -> 225272.45 | G22: =G23+G24 -> 611429.01 | H22: =H23+H24 -> 749429.01 | I22: =I23+I24 -> 0 | J22: =J23+J24 -> 0 | K22: =J22-I22 -> 0 | L22: =L23+L24 -> 0 | M22: =M23+M24 -> 0 | N22: =N23+N24 -> 140759.45 | Q22: MP | R22: 450000 | S22: 8328.77 | T22: 8975.34
A23: a | B23: w jednostkach powiązanych | C23: 0 | D23: 0 | E23: 0 | F23: =E23-D23 -> 0 | G23: 0 | H23: 17000 | I23: 0 | J23: 0 | K23: =J23-I23 -> 0 | L23: 0 | M23: 0 | N23: =-Aktywa!AM85 -> 14000 | Q23: ATP | R23: 250000 | S23: 5216.44 | T23: 5983.56
A24: b | B24: w pozostałych jednostkach | C24: 90593.04 | D24: =SUM(D25:D31) -> 386156.56 | E24: =SUM(E25:E31) -> 611429.01 | F24: =E24-D24 -> 225272.45 | G24: =SUM(G25:G31) -> 611429.01 | H24: =SUM(H25:H31) -> 732429.01 | I24: =SUM(I25:I31) -> 0 | J24: =SUM(J25:J31) -> 0 | K24: =J24-I24 -> 0 | L24: =SUM(L25:L31) -> 0 | M24: =SUM(M25:M31) -> 0 | N24: =SUM(N25:N31) -> 126759.45 | Q24: KG | R24: 300000 | S24: 4449.32 | T24: 4986.3
B25: - zbycie aktywów finansowych | C25: 70382.62 | D25: 386156.56 | E25: 611429.01 | F25: =E25-D25 -> 225272.45 | G25: 611429.01 | H25: 611429.01 | I25: 0 | J25: 0 | K25: =J25-I25 -> 0 | L25: 0 | M25: 0 | N25: 0 | O25: 752-7 | Q25: DJ | R25: 200000 | S25: 3375.34 | T25: 2367.13
B26: - aktualizacja wartości aktywów | C26: 0 | D26: 0 | E26: 0 | F26: =E26-D26 -> 0 | G26: 0 | H26: 0 | I26: 0 | J26: 0 | K26: =J26-I26 -> 0 | L26: 0 | M26: 0 | N26: 0 | O26: 035 | Q26: kredyty | R26: =Pasywa!T51 -> 388608.15
B27: - dywidendy i udziały w zyskach | C27: 16261.65 | D27: 0 | E27: 0 | F27: =E27-D27 -> 0 | G27: 0 | H27: 121000 | I27: 0 | J27: 0 | K27: =J27-I27 -> 0 | L27: 0 | M27: 0 | N27: 0 | O27: 752-1 | Q27: pożyczki udzielone
B28: - spłata udzielonych pożyczek krótkoterninowych | C28: 0 | D28: 0 | E28: 0 | F28: =E28-D28 -> 0 | G28: 0 | H28: 0 | I28: 0 | J28: 0 | K28: =J28-I28 -> 0 | L28: 0 | M28: 0 | N28: =-Aktywa!AM86 -> 120000 | Q28: bluematica | S28: 1265.75 | T28: 1346.3
B29: - spłata udzielonych pożyczek długoterminowych | C29: 0 | D29: 0 | E29: 0 | F29: =E29-D29 -> 0 | G29: 0 | H29: 0 | I29: 0 | J29: 0 | K29: =J29-I29 -> 0 | L29: 0 | M29: 0 | N29: 0 | Q29: inventity | T29: 2104.11
B30: - odsetki | C30: 3948.77 | D30: 0 | F30: =E30-D30 -> 0 | G30: 0 | H30: 0 | I30: 0 | J30: 0 | K30: =J30-I30 -> 0 | L30: 0 | M30: 0 | N30: =-Aktywa!AM87 -> 6759.45
B31: - inne wpływy z aktywów finansowych | C31: 0 | D31: 0 | E31: 0 | F31: =E31-D31 -> 0 | G31: 0 | H31: 0 | I31: 0 | J31: 0 | K31: =J31-I31 -> 0 | L31: 0 | M31: 0 | N31: 0
A32: 4 | B32: Inne wpływy inwestycyjne | C32: 100000 | D32: 0 | E32: 0 | F32: =E32-D32 -> 0 | G32: 17000 | H32: 0 | I32: 0 | J32: 0 | K32: =J32-I32 -> 0 | L32: 0 | M32: 0 | N32: 0
A33: II | B33: Wydatki | C33: =SUM(C34:C36)+C44 -> 924761.82 | D33: =SUM(D34:D36)+D44 -> 874974.21 | E33: =SUM(E34:E36)+E44 -> 894838.21 | F33: =E33-D33 -> 19864 | G33: =SUM(G34:G36)+G44 -> 1147111.4 | H33: =SUM(H34:H36)+H44 -> 1345959.7 | I33: =SUM(I34:I36)+I41 -> 1474194.9 | J33: =SUM(J34:J36)+J44 -> 1617335.6 | K33: =J33-I33 -> 143140.74 | L33: =SUM(L34:L36)+L44 -> 143140.74 | M33: =SUM(M34:M36)+M44 -> 100290.74 | N33: =SUM(N34:N36)+N44 -> 1747716.4 | Q33: Odsetki i udziały w zyskach (dywidendy) - sprawdzenie
A34: 1 | B34: Nabycie wartości niematerialnych i prawnych oraz rzeczowych aktywów trwałych | C34: 460162.63 | D34: 72188.4 | E34: 92052.4 | F34: =E34-D34 -> 19864 | G34: =Aktywa!V12+Aktywa!V13 -> 102101.83 | H34: =Aktywa!W12+Aktywa!W13 -> 100628.14 | I34: =Aktywa!AB13 -> 1464194.9 | J34: =1608307.15-130971.54 -> 1477335.6 | K34: =J34-I34 -> 13140.74 | L34: 13140.74 | M34: =Aktywa!Z12+Aktywa!Z13 -> 100290.74 | N34: =Aktywa!AM11+Aktywa!AM15+Aktywa!AM19 -> 1607716.4 | O34: 010 i 020 WN | Q34: 751-1-3-1 | R34: odsetki leasing | S34: 1261.61
A35: 2 | B35: Inwestycje w nieruchomości oraz wartości niematerialne i prawne | C35: 0 | D35: 0 | E35: 0 | F35: =E35-D35 -> 0 | G35: 0 | H35: 0 | I35: 0 | J35: 0 | K35: =J35-I35 -> 0 | L35: 0 | M35: 0 | N35: 0 | Q35: 751-1-2 | R35: odsetki od kredytu | S35: 19397.29
A36: 3 | B36: Na aktywa finansowe, w tym: | C36: =C37+C40 -> 364599.19 | D36: =D37+D40 -> 199946.81 | E36: =E37+E40 -> 199946.81 | F36: =E36-D36 -> 0 | G36: =G37+G40 -> 425170.54 | H36: =H37+H40 -> 1245331.5 | I36: =I37+I40 -> 10000 | J36: =J37+J40 -> 140000 | K36: =J36-I36 -> 130000 | L36: =L37+L40 -> 130000 | M36: =M37+M40 -> 0 | N36: =N37+N40 -> 140000 | Q36: 751-1-1 | R36: odsetki od pożyczek | S36: 89440
A37: a | B37: w jednostkach powiązanych | C37: 0 | D37: 0 | E37: 0 | F37: =E37-D37 -> 0 | G37: 0 | H37: =H38+H39 -> 97000 | I37: =I38+I39 -> 10000 | J37: =J38+J39 -> 20000 | K37: =J37-I37 -> 10000 | L37: =L38+L39 -> 10000 | M37: 0 | N37: =N38+N39 -> 20000 | R37: Razem | S37: =SUM(S34:S36) -> 110098.9
B38: - nabycie aktywów finansowych | C38: 0 | D38: 0 | E38: 0 | F38: =E38-D38 -> 0 | G38: 0 | H38: 97000 | I38: 0 | J38: 0 | K38: =J38-I38 -> 0 | L38: 0 | M38: 0 | N38: 0 | Q38: 752-1-2 | R38: dywidenda taxaide | S38: 85857.01
B39: -udzielone pożyczki krótkoterminowe | F39: =E39-D39 -> 0 | H39: 0 | I39: 10000 | J39: 20000 | K39: =J39-I39 -> 10000 | L39: 10000 | N39: =Aktywa!AM81 -> 20000 | Q39: 752-2-1 | R39: odsetki naliczone bluematica | S39: 5408.55
A40: b | B40: w pozostałych jednostkach | C40: =SUM(C41:C43) -> 364599.19 | D40: =SUM(D41:D43) -> 199946.81 | E40: =SUM(E41:E43) -> 199946.81 | F40: =E40-D40 -> 0 | G40: =SUM(G41:G43) -> 425170.54 | H40: =SUM(H41:H43) -> 1148331.5 | I40: =SUM(I41:I43) -> 0 | J40: =SUM(J41:J43) -> 120000 | K40: =J40-I40 -> 120000 | L40: =SUM(L41:L43) -> 120000 | M40: =SUM(M41:M43) -> 0 | N40: =SUM(N41:N43) -> 120000 | Q40: 752-2-2 | R40: odsetki inventity | S40: 6759.45
...

Sheet CIT8
A1: Numer | B1: Nazwa | C1: Saldo Wn | D1: Saldo Ma | E1: Koszty | F1: Przychody
A2: 400 | B2: Amortyzacja | C2: 183103.1 | D2: 0 | E2: =C2 -> 183103.1
A3: 400-1 | B3: Amortyzacja środków trwałych | C3: 74289.27 | D3: 0
A4: 400-1-1 | B4: Stanowiąca KUP | C4: 0 | D4: 0
A5: 400-1-2 | B5: Nie stanowiąca KUP | C5: 74289.27 | D5: 0 | E5: =-C5 -> -74289.27
A6: 400-2 | B6: Amortyzacja WNiP | C6: 108813.83 | D6: 0
A7: 400-2-1 | B7: Stanowiąca KUP | C7: 0 | D7: 0
A8: 400-2-2 | B8: Nie stanowiąca KUP | C8: 108813.83 | D8: 0 | E8: =-C8 -> -108813.83
A9: 401 | B9: Zużycie materiałów energii | C9: 460559.63 | D9: 0 | E9: =C9 -> 460559.63
A10: 401-1 | B10: Energia | C10: 70368.75 | D10: 0
A11: 401-2 | B11: Zużycie materiałów pomocniczych | C11: 172357.37 | D11: 0
A12: 401-3 | B12: Materiały biurowe | C12: 590.16 | D12: 0
A13: 401-4 | B13: Wyposażenie | C13: 212869.11 | D13: 0
A14: 401-5 | B14: Paliwo | C14: 4374.24 | D14: 0
A15: 402 | B15: Usługi obce | C15: 6740983.1 | D15: 0 | E15: =C15 -> 6740983.1
A16: 402-1 | B16: Czynsz | C16: 682778.72 | D16: 0
A17: 402-10 | B17: Koszty związane z eksploatacją samochodu | C17: 5325.2 | D17: 0
A18: 402-11 | B18: Rezerwa na usł. podwykonawców | C18: 0 | D18: 0
A19: 402-12 | B19: usługi podwykonawców | C19: 4300425 | D19: 0
A20: 402-13 | B20: usługi bankowe | C20: 16422.9 | D20: 0
A21: 402-2 | B21: Usługi transportowe i pocztowe | C21: 11498.87 | D21: 0
A22: 402-3 | B22: Telekomunikacja | C22: 39561.28 | D22: 0
A23: 402-4 | B23: usługi informatyczne | C23: 335043.2 | D23: 0
A24: 402-5 | B24: usługi doradcze | C24: 87851 | D24: 0
A25: 402-6 | B25: rozliczenie prenumerat, polis | C25: 30227.46 | D25: 0
A26: 402-7 | B26: usługi marketingowe | C26: 555127.67 | D26: 0
A27: 402-8 | B27: usługi pozostałe | C27: 348891.19 | D27: 0
A28: 402-9 | B28: usługi szkoleniowe | C28: 327830.58 | D28: 0
A29: 403 | B29: Podatki i opłaty | C29: 1360 | D29: 0 | E29: =C29 -> 1360
A30: 403-1 | B30: Podatek od nieruchomości | C30: 0 | D30: 0
A31: 403-2 | B31: Podatek od czynności cywilnoprawnych | C31: 1000 | D31: 0
A32: 403-3 | B32: Podatek od środków transportu | C32: 0 | D32: 0
A33: 403-4 | B33: VAT niepodlegający odliczeniu | C33: 0 | D33: 0
A34: 403-5 | B34: Podatek akcyzowy | C34: 0 | D34: 0
A35: 403-6 | B35: Pozostałe podatki i opłaty | C35: 360 | D35: 0
A36: 404 | B36: Wynagrodzenia | C36: 9638854.4 | D36: 0 | E36: =C36 -> 9638854.4
A37: 404-1 | B37: wynagrodzenia etatowe | C37: 7502382.3 | D37: 0
A38: 404-2 | B38: wynagrodzenia um. cyw. - praw. | C38: 2136472.1 | D38: 0
A39: 404-3 | B39: Rezerwa na wynagrodzenia | C39: 0 | D39: 0
A40: 405 | B40: Ubezpieczenia społeczne i inne świadczenia | C40: 1810582.8 | D40: 0 | E40: =C40 -> 1810582.8
...

Sheet Podatek odroczony
A1: Aktywa/pasywa | B1: Pozycja | C1: Stan na dzień 31.12.2024 | D1: Stan na dzień 31.12.2021 | E1: Stan na dzień 31.12.2020 | F1: Stan na dzień 31.12.2019 | G1: wartość bilansowa | H1: wartość podatkowa | I1: różnica przejściowa ujemna (aktywa) | J1: różnica przejściowa dodatnia (pasywa) | K1: Uwagi | O1: wartość bilansowa | P1: wartość podatkowa | Q1: różnica przejściowa ujemna (aktywa) | R1: różnica przejściowa dodatnia (pasywa)
A2: Pozycja aktywów | B2: Wartości niematerialne i prawne | C2: 1344345.7 | D2: 300000 | E2: 811.38 | F2: 9314.65 | G2: =C2 -> 1344345.7 | H2: =C2 -> 1344345.7 | I2: 0 | J2: 0 | L2: ok | O2: =E2 -> 811.38 | P2: 0 | Q2: 0 | R2: =O2-P2 -> 811.38
A3: Pozycja aktywów | B3: Środki trwałe | C3: 154283.89 | D3: 92247.53 | E3: 82795.45 | F3: 90601.71 | G3: =C3 -> 154283.89 | H3: 0 | I3: 0 | J3: =G3-H3 -> 154283.89 | K3: wartość do umorzenia bilansowa 152,6k, przyszła amortyzacja podatkowa 0 utworzona rezerwa | L3: ok | O3: =E3 -> 82795.45 | P3: 7786.19 | Q3: 0 | R3: =O3-P3 -> 75009.26
A4: Pozycja aktywów | B4: Środki trwałe w budowie | C4: 0 | D4: 1096.75 | E4: 0 | F4: 0 | G4: =C4 -> 0 | H4: =C4 -> 0 | I4: 0 | J4: 0 | L4: ok | O4: 0 | P4: 0 | Q4: 0 | R4: 0
A5: Pozycja aktywów | B5: Należności długoterminowe - kaucje za wynajmowane lokale | C5: 106539.81 | D5: 39129 | E5: 41100.05 | F5: 45600.05 | G5: =C5 -> 106539.81 | H5: =C5 -> 106539.81 | I5: =G5-H5 -> 0 | J5: =G5-H5 -> 0 | L5: ok | O5: 0 | P5: 0 | Q5: 0 | R5: 0
A6: Pozycja aktywów | B6: Inwestycje długoterminowe | C6: 723161 | G6: =C6 -> 723161 | H6: =C6 -> 723161 | I6: =G6-H6 -> 0 | J6: =G6-H6 -> 0 | L6: ok
A7: Pozycja aktywów | B7: Aktywa z tytułu odroczonego podatku dochodowego | C7: 91067.28 | D7: 39297.09 | E7: 0 | F7: 0 | G7: =C7 -> 91067.28 | H7: =C7 -> 91067.28 | I7: 0 | J7: 0 | L7: ok | O7: 0 | P7: 0 | Q7: 0 | R7: 0
A8: Pozycja aktywów | B8: Zaliczki na dostawy i usługi | C8: 15000 | D8: 2806.45 | E8: 5428.22 | F8: 26134.02 | G8: =C8 -> 15000 | H8: =C8 -> 15000 | I8: 0 | J8: 0 | L8: ok | O8: 0 | P8: 0 | Q8: 0 | R8: 0
A9: Pozycja aktywów | B9: Należności od odbiorców do 12 m-cy | C9: =2092868.94+490.77 -> 2093359.7 | D9: 873424.35 | E9: 737569.29 | F9: 899697.64 | G9: =C9 -> 2093359.7 | H9: =C9+(90436.39+330725.62)/1.23 -> 2435767.8 | I9: =H9-G9 -> 342408.14 | J9: 0 | K9: wartość podatkowa powiększona o kwotę netto (bez VAT) odpisów aktualizujących z konta 281 i 282, powstały aktywa | L9: ok, tutaj wliczamy również jednostki powiązane | O9: =E9 -> 737569.29 | P9: =O9+219545.84/1.23 -> 916061.84 | Q9: =P9-O9 -> 178492.55 | R9: 0
A10: Pozycja aktywów | B10: Należności z tytułu podatków, dotacji, ceł, ubezpieczeń społecznych i zdrowotnych oraz innych tytułów publicznoprawnych | C10: 0 | D10: 3897 | E10: 0 | F10: 0 | G10: =C10 -> 0 | H10: =C10 -> 0 | I10: 0 | J10: 0 | L10: ok | O10: =E10 -> 0 | P10: =E10 -> 0 | Q10: 0 | R10: 0
A11: Pozycja aktywów | B11: Inne należności krótkoterminowe | C11: 31995.8 | D11: 6009.5 | E11: 10993.62 | F11: 6987.41 | G11: =C11 -> 31995.8 | H11: =C11 -> 31995.8 | I11: 0 | J11: 0 | L11: ok | O11: =E11 -> 10993.62 | P11: =E11 -> 10993.62 | Q11: 0 | R11: 0
A12: Pozycja aktywów | B12: Udzielone pożyczki | C12: 91724.17 | G12: =C12 -> 91724.17 | H12: =C12-5408.55 -> 86315.62 | I12: 0 | J12: =G12-H12 -> 5408.55 | K12: wartość podatkowa pomniejszona o odsetki naliczone, a nieotrzymane | L12: ok
A13: Pozycja aktywów | B13: Udziały lub akcje | C13: 109521.4 | G13: =C13 -> 109521.4 | H13: 225223.73 | I13: =H13-G13 -> 115702.33 | J13: 0 | K13: wartość akcji w cenie nabycia 225223,73 zł | L13: ok
A14: Pozycja aktywów | B14: Środki pieniężne i inne aktywa pieniężne | C14: 18394.9 | D14: 886338.57 | E14: 667186.88 | F14: 183246.18 | G14: =C14 -> 18394.9 | H14: =C14 -> 18394.9 | I14: 0 | J14: 0 | L14: ok | O14: =E14 -> 667186.88 | P14: =E14 -> 667186.88 | Q14: 0 | R14: 0
A15: Pozycja aktywów | B15: Krótkoterminowe rozliczenia międzyokresowe | C15: 296021.69 | D15: 115562.36 | E15: 39874.65 | F15: 30190.04 | G15: =C15 -> 296021.69 | H15: =C15 -> 296021.69 | I15: 0 | J15: 0 | L15: ok | O15: =E15 -> 39874.65 | P15: =E15 -> 39874.65 | Q15: 0 | R15: 0
A16: Raz` | B16: Razem aktywa | C16: =SUM(C2:C15) -> 5075415.4 | G16: =C16-5073779.13 -> 1636.25
